BEGIN:VCALENDAR
VERSION:2.0
PRODID:-//The Danish Lutheran Church of Vancouver, B.C. - ECPv6.15.20//NONSGML v1.0//EN
CALSCALE:GREGORIAN
METHOD:PUBLISH
X-WR-CALNAME:The Danish Lutheran Church of Vancouver, B.C.
X-ORIGINAL-URL:https://danishchurch.vancouver.bc.ca
X-WR-CALDESC:Events for The Danish Lutheran Church of Vancouver, B.C.
REFRESH-INTERVAL;VALUE=DURATION:PT1H
X-Robots-Tag:noindex
X-PUBLISHED-TTL:PT1H
BEGIN:VTIMEZONE
TZID:America/Vancouver
BEGIN:DAYLIGHT
TZOFFSETFROM:-0800
TZOFFSETTO:-0700
TZNAME:PDT
DTSTART:20230312T100000
END:DAYLIGHT
BEGIN:STANDARD
TZOFFSETFROM:-0700
TZOFFSETTO:-0800
TZNAME:PST
DTSTART:20231105T090000
END:STANDARD
BEGIN:DAYLIGHT
TZOFFSETFROM:-0800
TZOFFSETTO:-0700
TZNAME:PDT
DTSTART:20240310T100000
END:DAYLIGHT
BEGIN:STANDARD
TZOFFSETFROM:-0700
TZOFFSETTO:-0800
TZNAME:PST
DTSTART:20241103T090000
END:STANDARD
BEGIN:DAYLIGHT
TZOFFSETFROM:-0800
TZOFFSETTO:-0700
TZNAME:PDT
DTSTART:20250309T100000
END:DAYLIGHT
BEGIN:STANDARD
TZOFFSETFROM:-0700
TZOFFSETTO:-0800
TZNAME:PST
DTSTART:20251102T090000
END:STANDARD
END:VTIMEZONE
BEGIN:VEVENT
DTSTART;TZID=America/Vancouver:20240811T110000
DTEND;TZID=America/Vancouver:20240811T121500
DTSTAMP:20260423T094914
CREATED:20240518T224350Z
LAST-MODIFIED:20240518T224729Z
UID:17775-1723374000-1723378500@danishchurch.vancouver.bc.ca
SUMMARY:11th Sunday after Trinity
DESCRIPTION:Service in English by Pastor Clifford Reinhardt. \n\nDeuteronomy 30:15–20\nRomans 10:4–13\, [14–17]\nLuke 7:36–50
URL:https://danishchurch.vancouver.bc.ca/event/11th-sunday-after-trinity-2/
CATEGORIES:Service
ATTACH;FMTTYPE=image/png:https://danishchurch.vancouver.bc.ca/wp-content/uploads/0-11Trinity.png
END:VEVENT
END:VCALENDAR