BEGIN:VCALENDAR
VERSION:2.0
PRODID:-//The Danish Lutheran Church of Vancouver, B.C. - ECPv6.15.20//NONSGML v1.0//EN
CALSCALE:GREGORIAN
METHOD:PUBLISH
X-ORIGINAL-URL:https://danishchurch.vancouver.bc.ca
X-WR-CALDESC:Events for The Danish Lutheran Church of Vancouver, B.C.
REFRESH-INTERVAL;VALUE=DURATION:PT1H
X-Robots-Tag:noindex
X-PUBLISHED-TTL:PT1H
BEGIN:VTIMEZONE
TZID:America/Vancouver
BEGIN:DAYLIGHT
TZOFFSETFROM:-0800
TZOFFSETTO:-0700
TZNAME:PDT
DTSTART:20230312T100000
END:DAYLIGHT
BEGIN:STANDARD
TZOFFSETFROM:-0700
TZOFFSETTO:-0800
TZNAME:PST
DTSTART:20231105T090000
END:STANDARD
BEGIN:DAYLIGHT
TZOFFSETFROM:-0800
TZOFFSETTO:-0700
TZNAME:PDT
DTSTART:20240310T100000
END:DAYLIGHT
BEGIN:STANDARD
TZOFFSETFROM:-0700
TZOFFSETTO:-0800
TZNAME:PST
DTSTART:20241103T090000
END:STANDARD
BEGIN:DAYLIGHT
TZOFFSETFROM:-0800
TZOFFSETTO:-0700
TZNAME:PDT
DTSTART:20250309T100000
END:DAYLIGHT
BEGIN:STANDARD
TZOFFSETFROM:-0700
TZOFFSETTO:-0800
TZNAME:PST
DTSTART:20251102T090000
END:STANDARD
END:VTIMEZONE
BEGIN:VEVENT
DTSTART;TZID=America/Vancouver:20240830T190000
DTEND;TZID=America/Vancouver:20240830T190000
DTSTAMP:20260423T122217
CREATED:20240617T175741Z
LAST-MODIFIED:20240814T173411Z
UID:17888-1725044400-1725044400@danishchurch.vancouver.bc.ca
SUMMARY:Fri - Young Adults
DESCRIPTION:In May 2024 we had a successful event holding a “beer ‘n boardgames” evening for young adults. The idea was to facilitate a room where young adults could meet with fellow Scandinavians\, expats\, or other people connected to the church and/or community. \nAs the local Danish church\, we truly want to continue to facilitate these events\, and therefore we have planned on having three similar events during the Fall. \nThe first event will be held at the parsonage on Friday\, August 30th at 7pm. \nLast time we met for “beer ‘n boardgames”. This time we will meet for “bonfire ‘n boardgames”. Beer will of course be served once again\, but as a special gimmick for this event we will make “snobrød” and s’mores. The board games will be optional but are a great way to socialize. \nWe look forward to hosting yet another event for Young Adults.
URL:https://danishchurch.vancouver.bc.ca/event/young-adults-2/
ATTACH;FMTTYPE=image/jpeg:https://danishchurch.vancouver.bc.ca/wp-content/uploads/quarto.jpg
END:VEVENT
END:VCALENDAR