BEGIN:VCALENDAR
VERSION:2.0
PRODID:-//The Danish Lutheran Church of Vancouver, B.C. - ECPv6.15.20//NONSGML v1.0//EN
CALSCALE:GREGORIAN
METHOD:PUBLISH
X-WR-CALNAME:The Danish Lutheran Church of Vancouver, B.C.
X-ORIGINAL-URL:https://danishchurch.vancouver.bc.ca
X-WR-CALDESC:Events for The Danish Lutheran Church of Vancouver, B.C.
REFRESH-INTERVAL;VALUE=DURATION:PT1H
X-Robots-Tag:noindex
X-PUBLISHED-TTL:PT1H
BEGIN:VTIMEZONE
TZID:America/Vancouver
BEGIN:DAYLIGHT
TZOFFSETFROM:-0800
TZOFFSETTO:-0700
TZNAME:PDT
DTSTART:20230312T100000
END:DAYLIGHT
BEGIN:STANDARD
TZOFFSETFROM:-0700
TZOFFSETTO:-0800
TZNAME:PST
DTSTART:20231105T090000
END:STANDARD
BEGIN:DAYLIGHT
TZOFFSETFROM:-0800
TZOFFSETTO:-0700
TZNAME:PDT
DTSTART:20240310T100000
END:DAYLIGHT
BEGIN:STANDARD
TZOFFSETFROM:-0700
TZOFFSETTO:-0800
TZNAME:PST
DTSTART:20241103T090000
END:STANDARD
BEGIN:DAYLIGHT
TZOFFSETFROM:-0800
TZOFFSETTO:-0700
TZNAME:PDT
DTSTART:20250309T100000
END:DAYLIGHT
BEGIN:STANDARD
TZOFFSETFROM:-0700
TZOFFSETTO:-0800
TZNAME:PST
DTSTART:20251102T090000
END:STANDARD
END:VTIMEZONE
BEGIN:VEVENT
DTSTART;TZID=America/Vancouver:20240908T110000
DTEND;TZID=America/Vancouver:20240908T121500
DTSTAMP:20260423T082840
CREATED:20240830T185606Z
LAST-MODIFIED:20240830T185606Z
UID:17981-1725793200-1725797700@danishchurch.vancouver.bc.ca
SUMMARY:15th Sunday after Trinity
DESCRIPTION:Service in English by Pastor Carsten Mølgaard Hansen. \n\nPsalms 73:23–28\n Acts 8:26–39\n Luke 10:38–42
URL:https://danishchurch.vancouver.bc.ca/event/15th-sunday-after-trinity-2/
CATEGORIES:Service
ATTACH;FMTTYPE=image/png:https://danishchurch.vancouver.bc.ca/wp-content/uploads/0-15Trinity.png
END:VEVENT
BEGIN:VEVENT
DTSTART;TZID=America/Vancouver:20240908T130000
DTEND;TZID=America/Vancouver:20240908T150000
DTSTAMP:20260423T082840
CREATED:20240617T171425Z
LAST-MODIFIED:20240814T173501Z
UID:17860-1725800400-1725807600@danishchurch.vancouver.bc.ca
SUMMARY:Sun - Harvest Dinner
DESCRIPTION:Once again\, we look forward to inviting you to a splendid lunch in the church. This year our Harvest Lunch will be a BBQ.
URL:https://danishchurch.vancouver.bc.ca/event/harvest-lunch/
END:VEVENT
END:VCALENDAR