BEGIN:VCALENDAR
VERSION:2.0
PRODID:-//The Danish Lutheran Church of Vancouver, B.C. - ECPv6.15.20//NONSGML v1.0//EN
CALSCALE:GREGORIAN
METHOD:PUBLISH
X-WR-CALNAME:The Danish Lutheran Church of Vancouver, B.C.
X-ORIGINAL-URL:https://danishchurch.vancouver.bc.ca
X-WR-CALDESC:Events for The Danish Lutheran Church of Vancouver, B.C.
REFRESH-INTERVAL;VALUE=DURATION:PT1H
X-Robots-Tag:noindex
X-PUBLISHED-TTL:PT1H
BEGIN:VTIMEZONE
TZID:America/Vancouver
BEGIN:DAYLIGHT
TZOFFSETFROM:-0800
TZOFFSETTO:-0700
TZNAME:PDT
DTSTART:20230312T100000
END:DAYLIGHT
BEGIN:STANDARD
TZOFFSETFROM:-0700
TZOFFSETTO:-0800
TZNAME:PST
DTSTART:20231105T090000
END:STANDARD
BEGIN:DAYLIGHT
TZOFFSETFROM:-0800
TZOFFSETTO:-0700
TZNAME:PDT
DTSTART:20240310T100000
END:DAYLIGHT
BEGIN:STANDARD
TZOFFSETFROM:-0700
TZOFFSETTO:-0800
TZNAME:PST
DTSTART:20241103T090000
END:STANDARD
BEGIN:DAYLIGHT
TZOFFSETFROM:-0800
TZOFFSETTO:-0700
TZNAME:PDT
DTSTART:20250309T100000
END:DAYLIGHT
BEGIN:STANDARD
TZOFFSETFROM:-0700
TZOFFSETTO:-0800
TZNAME:PST
DTSTART:20251102T090000
END:STANDARD
END:VTIMEZONE
BEGIN:VEVENT
DTSTART;TZID=America/Vancouver:20240912T190000
DTEND;TZID=America/Vancouver:20240912T190000
DTSTAMP:20260423T095117
CREATED:20240910T000732Z
LAST-MODIFIED:20240910T000747Z
UID:18033-1726167600-1726167600@danishchurch.vancouver.bc.ca
SUMMARY:New Auxiliary Meets
DESCRIPTION:
URL:https://danishchurch.vancouver.bc.ca/event/new-auxiliary-meets-2/
CATEGORIES:Monthly
END:VEVENT
BEGIN:VEVENT
DTSTART;TZID=America/Vancouver:20240912T190000
DTEND;TZID=America/Vancouver:20240912T200000
DTSTAMP:20260423T095117
CREATED:20240617T171635Z
LAST-MODIFIED:20240814T173720Z
UID:17862-1726167600-1726171200@danishchurch.vancouver.bc.ca
SUMMARY:Thu - Night Church with Leonard Cohen Sing Along
DESCRIPTION:After having had Night Church Sing-Along’s with The Beatles\, ABBA\, and Kim Larsen\, it is about time trying to have a Sing-Along with a Canadian musician. This September\, Leonard Cohen would have turned 90 making it a good occasion to honour him and his legacy. This will happen on Thursday 12th of September at 7pm. \nIf you missed our previous Sing-Along’s\, make sure not to miss this one as the church – once again – will be decorated in all the colours of the rainbow. During the Sing-Along service the pastor will relate Cohen’s songs to the gospel. Following the service drinks and snacks will be served in the downstairs church hall.
URL:https://danishchurch.vancouver.bc.ca/event/night-church-with-leonard-cohen-sing-along/
ATTACH;FMTTYPE=image/jpeg:https://danishchurch.vancouver.bc.ca/wp-content/uploads/Night-Church-4-scaled-1.jpeg
END:VEVENT
END:VCALENDAR