BEGIN:VCALENDAR
VERSION:2.0
PRODID:-//The Danish Lutheran Church of Vancouver, B.C. - ECPv6.15.20//NONSGML v1.0//EN
CALSCALE:GREGORIAN
METHOD:PUBLISH
X-WR-CALNAME:The Danish Lutheran Church of Vancouver, B.C.
X-ORIGINAL-URL:https://danishchurch.vancouver.bc.ca
X-WR-CALDESC:Events for The Danish Lutheran Church of Vancouver, B.C.
REFRESH-INTERVAL;VALUE=DURATION:PT1H
X-Robots-Tag:noindex
X-PUBLISHED-TTL:PT1H
BEGIN:VTIMEZONE
TZID:America/Vancouver
BEGIN:DAYLIGHT
TZOFFSETFROM:-0800
TZOFFSETTO:-0700
TZNAME:PDT
DTSTART:20230312T100000
END:DAYLIGHT
BEGIN:STANDARD
TZOFFSETFROM:-0700
TZOFFSETTO:-0800
TZNAME:PST
DTSTART:20231105T090000
END:STANDARD
BEGIN:DAYLIGHT
TZOFFSETFROM:-0800
TZOFFSETTO:-0700
TZNAME:PDT
DTSTART:20240310T100000
END:DAYLIGHT
BEGIN:STANDARD
TZOFFSETFROM:-0700
TZOFFSETTO:-0800
TZNAME:PST
DTSTART:20241103T090000
END:STANDARD
BEGIN:DAYLIGHT
TZOFFSETFROM:-0800
TZOFFSETTO:-0700
TZNAME:PDT
DTSTART:20250309T100000
END:DAYLIGHT
BEGIN:STANDARD
TZOFFSETFROM:-0700
TZOFFSETTO:-0800
TZNAME:PST
DTSTART:20251102T090000
END:STANDARD
END:VTIMEZONE
BEGIN:VEVENT
DTSTART;TZID=America/Vancouver:20240929T110000
DTEND;TZID=America/Vancouver:20240929T121500
DTSTAMP:20260420T192202
CREATED:20240830T185609Z
LAST-MODIFIED:20240830T185945Z
UID:17984-1727607600-1727612100@danishchurch.vancouver.bc.ca
SUMMARY:18th Sunday after Trinity
DESCRIPTION:Service in English by Pastor Clifford Reinhardt. \n\nPsalms 121\n1st John 4:12–16a\nJohn 15:1–11
URL:https://danishchurch.vancouver.bc.ca/event/18th-sunday-after-trinity-2/
CATEGORIES:Service
ATTACH;FMTTYPE=image/png:https://danishchurch.vancouver.bc.ca/wp-content/uploads/0-18Trinity.png
END:VEVENT
END:VCALENDAR