BEGIN:VCALENDAR
VERSION:2.0
PRODID:-//The Danish Lutheran Church of Vancouver, B.C. - ECPv6.15.20//NONSGML v1.0//EN
CALSCALE:GREGORIAN
METHOD:PUBLISH
X-ORIGINAL-URL:https://danishchurch.vancouver.bc.ca
X-WR-CALDESC:Events for The Danish Lutheran Church of Vancouver, B.C.
REFRESH-INTERVAL;VALUE=DURATION:PT1H
X-Robots-Tag:noindex
X-PUBLISHED-TTL:PT1H
BEGIN:VTIMEZONE
TZID:America/Vancouver
BEGIN:DAYLIGHT
TZOFFSETFROM:-0800
TZOFFSETTO:-0700
TZNAME:PDT
DTSTART:20230312T100000
END:DAYLIGHT
BEGIN:STANDARD
TZOFFSETFROM:-0700
TZOFFSETTO:-0800
TZNAME:PST
DTSTART:20231105T090000
END:STANDARD
BEGIN:DAYLIGHT
TZOFFSETFROM:-0800
TZOFFSETTO:-0700
TZNAME:PDT
DTSTART:20240310T100000
END:DAYLIGHT
BEGIN:STANDARD
TZOFFSETFROM:-0700
TZOFFSETTO:-0800
TZNAME:PST
DTSTART:20241103T090000
END:STANDARD
BEGIN:DAYLIGHT
TZOFFSETFROM:-0800
TZOFFSETTO:-0700
TZNAME:PDT
DTSTART:20250309T100000
END:DAYLIGHT
BEGIN:STANDARD
TZOFFSETFROM:-0700
TZOFFSETTO:-0800
TZNAME:PST
DTSTART:20251102T090000
END:STANDARD
END:VTIMEZONE
BEGIN:VEVENT
DTSTART;TZID=America/Vancouver:20241025T190000
DTEND;TZID=America/Vancouver:20241025T210000
DTSTAMP:20260420T203117
CREATED:20240617T172908Z
LAST-MODIFIED:20240814T174250Z
UID:17871-1729882800-1729890000@danishchurch.vancouver.bc.ca
SUMMARY:Fri - Young Adults
DESCRIPTION:For our Young Adults event in October we will host a thrilling Halloween Movie Night at the parsonage. We invite people to dress up and vote on which movie to watch. Also\, themed snacks and beverages will be available.
URL:https://danishchurch.vancouver.bc.ca/event/young-adults/
ATTACH;FMTTYPE=image/jpeg:https://danishchurch.vancouver.bc.ca/wp-content/uploads/Young-Adults-2024-10-25.jpg
END:VEVENT
END:VCALENDAR