BEGIN:VCALENDAR
VERSION:2.0
PRODID:-//The Danish Lutheran Church of Vancouver, B.C. - ECPv6.15.20//NONSGML v1.0//EN
CALSCALE:GREGORIAN
METHOD:PUBLISH
X-ORIGINAL-URL:https://danishchurch.vancouver.bc.ca
X-WR-CALDESC:Events for The Danish Lutheran Church of Vancouver, B.C.
REFRESH-INTERVAL;VALUE=DURATION:PT1H
X-Robots-Tag:noindex
X-PUBLISHED-TTL:PT1H
BEGIN:VTIMEZONE
TZID:America/Vancouver
BEGIN:DAYLIGHT
TZOFFSETFROM:-0800
TZOFFSETTO:-0700
TZNAME:PDT
DTSTART:20230312T100000
END:DAYLIGHT
BEGIN:STANDARD
TZOFFSETFROM:-0700
TZOFFSETTO:-0800
TZNAME:PST
DTSTART:20231105T090000
END:STANDARD
BEGIN:DAYLIGHT
TZOFFSETFROM:-0800
TZOFFSETTO:-0700
TZNAME:PDT
DTSTART:20240310T100000
END:DAYLIGHT
BEGIN:STANDARD
TZOFFSETFROM:-0700
TZOFFSETTO:-0800
TZNAME:PST
DTSTART:20241103T090000
END:STANDARD
BEGIN:DAYLIGHT
TZOFFSETFROM:-0800
TZOFFSETTO:-0700
TZNAME:PDT
DTSTART:20250309T100000
END:DAYLIGHT
BEGIN:STANDARD
TZOFFSETFROM:-0700
TZOFFSETTO:-0800
TZNAME:PST
DTSTART:20251102T090000
END:STANDARD
END:VTIMEZONE
BEGIN:VEVENT
DTSTART;TZID=America/Vancouver:20241113T110000
DTEND;TZID=America/Vancouver:20241113T120000
DTSTAMP:20260420T192327
CREATED:20240910T003352Z
LAST-MODIFIED:20241022T182223Z
UID:18075-1731495600-1731499200@danishchurch.vancouver.bc.ca
SUMMARY:Yoga
DESCRIPTION:
URL:https://danishchurch.vancouver.bc.ca/event/yoga-28/
CATEGORIES:CFC,Weekly
END:VEVENT
BEGIN:VEVENT
DTSTART;TZID=America/Vancouver:20241113T133000
DTEND;TZID=America/Vancouver:20241113T153000
DTSTAMP:20260420T192327
CREATED:20240910T000732Z
LAST-MODIFIED:20241112T185631Z
UID:18031-1731504600-1731511800@danishchurch.vancouver.bc.ca
SUMMARY:Wed - Kom Sammen
DESCRIPTION:
URL:https://danishchurch.vancouver.bc.ca/event/kom-sammen-3/
CATEGORIES:Monthly
ATTACH;FMTTYPE=image/jpeg:https://danishchurch.vancouver.bc.ca/wp-content/uploads/Kom-Sammen-Eftermiddag-2.jpg
END:VEVENT
BEGIN:VEVENT
DTSTART;TZID=America/Vancouver:20241113T170000
DTEND;TZID=America/Vancouver:20241113T180000
DTSTAMP:20260420T192327
CREATED:20240910T002947Z
LAST-MODIFIED:20241114T175022Z
UID:18063-1731517200-1731520800@danishchurch.vancouver.bc.ca
SUMMARY:Wed - Yoga
DESCRIPTION:
URL:https://danishchurch.vancouver.bc.ca/event/yoga-18/
CATEGORIES:CFC,Weekly
ATTACH;FMTTYPE=image/png:https://danishchurch.vancouver.bc.ca/wp-content/uploads/Yoga-2.png
END:VEVENT
END:VCALENDAR