BEGIN:VCALENDAR
VERSION:2.0
PRODID:-//The Danish Lutheran Church of Vancouver, B.C. - ECPv6.15.20//NONSGML v1.0//EN
CALSCALE:GREGORIAN
METHOD:PUBLISH
X-ORIGINAL-URL:https://danishchurch.vancouver.bc.ca
X-WR-CALDESC:Events for The Danish Lutheran Church of Vancouver, B.C.
REFRESH-INTERVAL;VALUE=DURATION:PT1H
X-Robots-Tag:noindex
X-PUBLISHED-TTL:PT1H
BEGIN:VTIMEZONE
TZID:America/Vancouver
BEGIN:DAYLIGHT
TZOFFSETFROM:-0800
TZOFFSETTO:-0700
TZNAME:PDT
DTSTART:20230312T100000
END:DAYLIGHT
BEGIN:STANDARD
TZOFFSETFROM:-0700
TZOFFSETTO:-0800
TZNAME:PST
DTSTART:20231105T090000
END:STANDARD
BEGIN:DAYLIGHT
TZOFFSETFROM:-0800
TZOFFSETTO:-0700
TZNAME:PDT
DTSTART:20240310T100000
END:DAYLIGHT
BEGIN:STANDARD
TZOFFSETFROM:-0700
TZOFFSETTO:-0800
TZNAME:PST
DTSTART:20241103T090000
END:STANDARD
BEGIN:DAYLIGHT
TZOFFSETFROM:-0800
TZOFFSETTO:-0700
TZNAME:PDT
DTSTART:20250309T100000
END:DAYLIGHT
BEGIN:STANDARD
TZOFFSETFROM:-0700
TZOFFSETTO:-0800
TZNAME:PST
DTSTART:20251102T090000
END:STANDARD
END:VTIMEZONE
BEGIN:VEVENT
DTSTART;TZID=America/Vancouver:20241117T110000
DTEND;TZID=America/Vancouver:20241117T121500
DTSTAMP:20260420T164723
CREATED:20241028T205338Z
LAST-MODIFIED:20241031T165026Z
UID:18161-1731841200-1731845700@danishchurch.vancouver.bc.ca
SUMMARY:25th Sunday after Trinity
DESCRIPTION:Service in English by Pastor Carsten Mølgaard Hansen. \n\nJob 14:7–15\n 1st Corinthians 15:50–57 or 2nd Peter 3:8–15a\n Luke 17:20–33
URL:https://danishchurch.vancouver.bc.ca/event/25th-sunday-after-trinity/
CATEGORIES:Service
ATTACH;FMTTYPE=image/png:https://danishchurch.vancouver.bc.ca/wp-content/uploads/0-25Trinity.png
END:VEVENT
BEGIN:VEVENT
DTSTART;TZID=America/Vancouver:20241117T130000
DTEND;TZID=America/Vancouver:20241117T150000
DTSTAMP:20260420T164723
CREATED:20241022T185418Z
LAST-MODIFIED:20241022T190619Z
UID:18143-1731848400-1731855600@danishchurch.vancouver.bc.ca
SUMMARY:Sun - Mortens Aften Dinner (in the afternoon at 1pm)
DESCRIPTION:The “new” old tradition of celebrating with a traditional duck dinner is coming to the Church. For our added pleasure the pop-up choir will entertain us during the meal. \nDon’t wait till the last minute\, but please RSVP to Penny no later than November 10 by email office@danishchurch.vancouver.bc.ca or phone 604 298 6112. Payment is also required at that time\, thank you. The cost of each meal is $30.
URL:https://danishchurch.vancouver.bc.ca/event/mortens-aften-dinner-in-the-afternoon-at-1pm/
ATTACH;FMTTYPE=image/jpeg:https://danishchurch.vancouver.bc.ca/wp-content/uploads/Mortens-Aften-Duck-Dinner.jpg
END:VEVENT
END:VCALENDAR