BEGIN:VCALENDAR
VERSION:2.0
PRODID:-//The Danish Lutheran Church of Vancouver, B.C. - ECPv6.15.20//NONSGML v1.0//EN
CALSCALE:GREGORIAN
METHOD:PUBLISH
X-WR-CALNAME:The Danish Lutheran Church of Vancouver, B.C.
X-ORIGINAL-URL:https://danishchurch.vancouver.bc.ca
X-WR-CALDESC:Events for The Danish Lutheran Church of Vancouver, B.C.
REFRESH-INTERVAL;VALUE=DURATION:PT1H
X-Robots-Tag:noindex
X-PUBLISHED-TTL:PT1H
BEGIN:VTIMEZONE
TZID:America/Vancouver
BEGIN:DAYLIGHT
TZOFFSETFROM:-0800
TZOFFSETTO:-0700
TZNAME:PDT
DTSTART:20240310T100000
END:DAYLIGHT
BEGIN:STANDARD
TZOFFSETFROM:-0700
TZOFFSETTO:-0800
TZNAME:PST
DTSTART:20241103T090000
END:STANDARD
BEGIN:DAYLIGHT
TZOFFSETFROM:-0800
TZOFFSETTO:-0700
TZNAME:PDT
DTSTART:20250309T100000
END:DAYLIGHT
BEGIN:STANDARD
TZOFFSETFROM:-0700
TZOFFSETTO:-0800
TZNAME:PST
DTSTART:20251102T090000
END:STANDARD
BEGIN:DAYLIGHT
TZOFFSETFROM:-0800
TZOFFSETTO:-0700
TZNAME:PDT
DTSTART:20260308T100000
END:DAYLIGHT
BEGIN:STANDARD
TZOFFSETFROM:-0700
TZOFFSETTO:-0800
TZNAME:PST
DTSTART:20261101T090000
END:STANDARD
END:VTIMEZONE
BEGIN:VEVENT
DTSTART;TZID=America/Vancouver:20250209T110000
DTEND;TZID=America/Vancouver:20250209T121500
DTSTAMP:20260422T032835
CREATED:20241217T175924Z
LAST-MODIFIED:20241217T181602Z
UID:18426-1739098800-1739103300@danishchurch.vancouver.bc.ca
SUMMARY:Last Sunday after Epiphany
DESCRIPTION:Service in English by Pastor Clifford Reinhardt. \n\nExodus 34:27–35\n 2nd Peter 1:16–18\n Matthew 17:1–9
URL:https://danishchurch.vancouver.bc.ca/event/last-sunday-after-epiphany-2/
CATEGORIES:Service
ATTACH;FMTTYPE=image/png:https://danishchurch.vancouver.bc.ca/wp-content/uploads/1-LastEpiphany.png
END:VEVENT
BEGIN:VEVENT
DTSTART;TZID=America/Vancouver:20250209T123000
DTEND;TZID=America/Vancouver:20250209T133000
DTSTAMP:20260422T032835
CREATED:20241226T034711Z
LAST-MODIFIED:20250203T222609Z
UID:18503-1739104200-1739107800@danishchurch.vancouver.bc.ca
SUMMARY:Lunch following service
DESCRIPTION:
URL:https://danishchurch.vancouver.bc.ca/event/lunch-following-service-2/
CATEGORIES:Monthly
ATTACH;FMTTYPE=image/jpeg:https://danishchurch.vancouver.bc.ca/wp-content/uploads/smorre16-1.jpg
END:VEVENT
END:VCALENDAR