BEGIN:VCALENDAR
VERSION:2.0
PRODID:-//The Danish Lutheran Church of Vancouver, B.C. - ECPv6.15.20//NONSGML v1.0//EN
CALSCALE:GREGORIAN
METHOD:PUBLISH
X-ORIGINAL-URL:https://danishchurch.vancouver.bc.ca
X-WR-CALDESC:Events for The Danish Lutheran Church of Vancouver, B.C.
REFRESH-INTERVAL;VALUE=DURATION:PT1H
X-Robots-Tag:noindex
X-PUBLISHED-TTL:PT1H
BEGIN:VTIMEZONE
TZID:America/Vancouver
BEGIN:DAYLIGHT
TZOFFSETFROM:-0800
TZOFFSETTO:-0700
TZNAME:PDT
DTSTART:20240310T100000
END:DAYLIGHT
BEGIN:STANDARD
TZOFFSETFROM:-0700
TZOFFSETTO:-0800
TZNAME:PST
DTSTART:20241103T090000
END:STANDARD
BEGIN:DAYLIGHT
TZOFFSETFROM:-0800
TZOFFSETTO:-0700
TZNAME:PDT
DTSTART:20250309T100000
END:DAYLIGHT
BEGIN:STANDARD
TZOFFSETFROM:-0700
TZOFFSETTO:-0800
TZNAME:PST
DTSTART:20251102T090000
END:STANDARD
BEGIN:DAYLIGHT
TZOFFSETFROM:-0800
TZOFFSETTO:-0700
TZNAME:PDT
DTSTART:20260308T100000
END:DAYLIGHT
BEGIN:STANDARD
TZOFFSETFROM:-0700
TZOFFSETTO:-0800
TZNAME:PST
DTSTART:20261101T090000
END:STANDARD
END:VTIMEZONE
BEGIN:VEVENT
DTSTART;TZID=America/Vancouver:20250323T110000
DTEND;TZID=America/Vancouver:20250323T121500
DTSTAMP:20260422T014730
CREATED:20250219T202525Z
LAST-MODIFIED:20250219T202525Z
UID:18632-1742727600-1742732100@danishchurch.vancouver.bc.ca
SUMMARY:3rd Sunday in Lent
DESCRIPTION:Service in English by Pastor Carsten Mølgaard Hansen. \n\nDeuteronomy 18:9–15\n Ephesians 5:[1–5]\, 6–9\n Luke 11:14–28
URL:https://danishchurch.vancouver.bc.ca/event/3rd-sunday-in-lent/
CATEGORIES:Service
ATTACH;FMTTYPE=image/png:https://danishchurch.vancouver.bc.ca/wp-content/uploads/1-3Lent.png
END:VEVENT
BEGIN:VEVENT
DTSTART;TZID=America/Vancouver:20250323T130000
DTEND;TZID=America/Vancouver:20250323T150000
DTSTAMP:20260422T014730
CREATED:20241217T190848Z
LAST-MODIFIED:20250303T202513Z
UID:18467-1742734800-1742742000@danishchurch.vancouver.bc.ca
SUMMARY:Sun - Annual General Meeting
DESCRIPTION:
URL:https://danishchurch.vancouver.bc.ca/event/sun-annual-general-meeting/
CATEGORIES:Board Meeting
ATTACH;FMTTYPE=image/jpeg:https://danishchurch.vancouver.bc.ca/wp-content/uploads/AGM-2025-03-23.jpg
END:VEVENT
END:VCALENDAR