BEGIN:VCALENDAR
VERSION:2.0
PRODID:-//The Danish Lutheran Church of Vancouver, B.C. - ECPv6.15.20//NONSGML v1.0//EN
CALSCALE:GREGORIAN
METHOD:PUBLISH
X-ORIGINAL-URL:https://danishchurch.vancouver.bc.ca
X-WR-CALDESC:Events for The Danish Lutheran Church of Vancouver, B.C.
REFRESH-INTERVAL;VALUE=DURATION:PT1H
X-Robots-Tag:noindex
X-PUBLISHED-TTL:PT1H
BEGIN:VTIMEZONE
TZID:America/Vancouver
BEGIN:DAYLIGHT
TZOFFSETFROM:-0800
TZOFFSETTO:-0700
TZNAME:PDT
DTSTART:20240310T100000
END:DAYLIGHT
BEGIN:STANDARD
TZOFFSETFROM:-0700
TZOFFSETTO:-0800
TZNAME:PST
DTSTART:20241103T090000
END:STANDARD
BEGIN:DAYLIGHT
TZOFFSETFROM:-0800
TZOFFSETTO:-0700
TZNAME:PDT
DTSTART:20250309T100000
END:DAYLIGHT
BEGIN:STANDARD
TZOFFSETFROM:-0700
TZOFFSETTO:-0800
TZNAME:PST
DTSTART:20251102T090000
END:STANDARD
BEGIN:DAYLIGHT
TZOFFSETFROM:-0800
TZOFFSETTO:-0700
TZNAME:PDT
DTSTART:20260308T100000
END:DAYLIGHT
BEGIN:STANDARD
TZOFFSETFROM:-0700
TZOFFSETTO:-0800
TZNAME:PST
DTSTART:20261101T090000
END:STANDARD
END:VTIMEZONE
BEGIN:VEVENT
DTSTART;TZID=America/Vancouver:20250511T110000
DTEND;TZID=America/Vancouver:20250511T121500
DTSTAMP:20260419T061412
CREATED:20250226T224322Z
LAST-MODIFIED:20250424T222503Z
UID:18654-1746961200-1746965700@danishchurch.vancouver.bc.ca
SUMMARY:3rd Sunday after Easter
DESCRIPTION:Service in English by Pastor Clifford Reinhardt. \n\nIsaiah 54:7–10\nActs 4:7–12 or Hebrews 13:12–16\nJohn 16:16–22
URL:https://danishchurch.vancouver.bc.ca/event/3rd-sunday-after-easter-2/
CATEGORIES:Service
ATTACH;FMTTYPE=image/png:https://danishchurch.vancouver.bc.ca/wp-content/uploads/1-3Easter.png
END:VEVENT
BEGIN:VEVENT
DTSTART;TZID=America/Vancouver:20250511T121500
DTEND;TZID=America/Vancouver:20250511T121500
DTSTAMP:20260419T061412
CREATED:20250406T022527Z
LAST-MODIFIED:20250510T225906Z
UID:18825-1746965700-1746965700@danishchurch.vancouver.bc.ca
SUMMARY:Monthly Lunch
DESCRIPTION:Following the service we will serve some typical smørrebrød for $2.00 each with the usual coffee and cookies.
URL:https://danishchurch.vancouver.bc.ca/event/monthly-lunch-2/
CATEGORIES:Monthly
END:VEVENT
BEGIN:VEVENT
DTSTART;TZID=America/Vancouver:20250511T130000
DTEND;TZID=America/Vancouver:20250511T130000
DTSTAMP:20260419T061412
CREATED:20250510T232510Z
LAST-MODIFIED:20250510T233632Z
UID:19018-1746968400-1746968400@danishchurch.vancouver.bc.ca
SUMMARY:Board Games
DESCRIPTION:Something new after lunch today … an afternoon of playing board games and any other games that people wish to play. The goal is to grow this event\, to have fun and provide a comfortable environment for people of ALL AGES  to come together.  Refreshments will be provided\, so\, just bring your fun-loving spirit for an enjoyable time together. We will have board games available\, or bring your favorite one along to teach us a new game or play a favorite with you.
URL:https://danishchurch.vancouver.bc.ca/event/board-games/
ATTACH;FMTTYPE=image/jpeg:https://danishchurch.vancouver.bc.ca/wp-content/uploads/GameTime-e1746918884797.jpg
END:VEVENT
END:VCALENDAR