BEGIN:VCALENDAR
VERSION:2.0
PRODID:-//The Danish Lutheran Church of Vancouver, B.C. - ECPv6.15.20//NONSGML v1.0//EN
CALSCALE:GREGORIAN
METHOD:PUBLISH
X-WR-CALNAME:The Danish Lutheran Church of Vancouver, B.C.
X-ORIGINAL-URL:https://danishchurch.vancouver.bc.ca
X-WR-CALDESC:Events for The Danish Lutheran Church of Vancouver, B.C.
REFRESH-INTERVAL;VALUE=DURATION:PT1H
X-Robots-Tag:noindex
X-PUBLISHED-TTL:PT1H
BEGIN:VTIMEZONE
TZID:America/Vancouver
BEGIN:DAYLIGHT
TZOFFSETFROM:-0800
TZOFFSETTO:-0700
TZNAME:PDT
DTSTART:20250309T100000
END:DAYLIGHT
BEGIN:STANDARD
TZOFFSETFROM:-0700
TZOFFSETTO:-0800
TZNAME:PST
DTSTART:20251102T090000
END:STANDARD
BEGIN:DAYLIGHT
TZOFFSETFROM:-0800
TZOFFSETTO:-0700
TZNAME:PDT
DTSTART:20260308T100000
END:DAYLIGHT
BEGIN:STANDARD
TZOFFSETFROM:-0700
TZOFFSETTO:-0800
TZNAME:PST
DTSTART:20261101T090000
END:STANDARD
BEGIN:DAYLIGHT
TZOFFSETFROM:-0800
TZOFFSETTO:-0700
TZNAME:PDT
DTSTART:20270314T100000
END:DAYLIGHT
BEGIN:STANDARD
TZOFFSETFROM:-0700
TZOFFSETTO:-0800
TZNAME:PST
DTSTART:20271107T090000
END:STANDARD
END:VTIMEZONE
BEGIN:VEVENT
DTSTART;VALUE=DATE:20260211
DTEND;VALUE=DATE:20260212
DTSTAMP:20260419T072430
CREATED:20260211T231451Z
LAST-MODIFIED:20260211T231451Z
UID:19728-1770768000-1770854399@danishchurch.vancouver.bc.ca
SUMMARY:Col/Car
DESCRIPTION:Details to follow.
URL:https://danishchurch.vancouver.bc.ca/event/col-car/
ATTACH;FMTTYPE=image/jpeg:https://danishchurch.vancouver.bc.ca/wp-content/uploads/CCpainting2.jpg
END:VEVENT
BEGIN:VEVENT
DTSTART;VALUE=DATE:20260211
DTEND;VALUE=DATE:20260212
DTSTAMP:20260419T072430
CREATED:20260212T012047Z
LAST-MODIFIED:20260212T012047Z
UID:19817-1770768000-1770854399@danishchurch.vancouver.bc.ca
SUMMARY:Col/Car Group
DESCRIPTION:Details to follow.
URL:https://danishchurch.vancouver.bc.ca/event/col-car-group/
ATTACH;FMTTYPE=image/jpeg:https://danishchurch.vancouver.bc.ca/wp-content/uploads/CCpainting2.jpg
END:VEVENT
BEGIN:VEVENT
DTSTART;TZID=America/Vancouver:20260211T133000
DTEND;TZID=America/Vancouver:20260211T150000
DTSTAMP:20260419T072430
CREATED:20260130T003120Z
LAST-MODIFIED:20260130T003120Z
UID:19592-1770816600-1770822000@danishchurch.vancouver.bc.ca
SUMMARY:Kom Sammen
DESCRIPTION:
URL:https://danishchurch.vancouver.bc.ca/event/kom-sammen-13/
ATTACH;FMTTYPE=image/jpeg:https://danishchurch.vancouver.bc.ca/wp-content/uploads/Kom-Sammen-Eftermiddag-1-1024x768-1.jpg
END:VEVENT
END:VCALENDAR