BEGIN:VCALENDAR
VERSION:2.0
PRODID:-//The Danish Lutheran Church of Vancouver, B.C. - ECPv6.15.20//NONSGML v1.0//EN
CALSCALE:GREGORIAN
METHOD:PUBLISH
X-WR-CALNAME:The Danish Lutheran Church of Vancouver, B.C.
X-ORIGINAL-URL:https://danishchurch.vancouver.bc.ca
X-WR-CALDESC:Events for The Danish Lutheran Church of Vancouver, B.C.
REFRESH-INTERVAL;VALUE=DURATION:PT1H
X-Robots-Tag:noindex
X-PUBLISHED-TTL:PT1H
BEGIN:VTIMEZONE
TZID:America/Vancouver
BEGIN:DAYLIGHT
TZOFFSETFROM:-0800
TZOFFSETTO:-0700
TZNAME:PDT
DTSTART:20220313T100000
END:DAYLIGHT
BEGIN:STANDARD
TZOFFSETFROM:-0700
TZOFFSETTO:-0800
TZNAME:PST
DTSTART:20221106T090000
END:STANDARD
BEGIN:DAYLIGHT
TZOFFSETFROM:-0800
TZOFFSETTO:-0700
TZNAME:PDT
DTSTART:20230312T100000
END:DAYLIGHT
BEGIN:STANDARD
TZOFFSETFROM:-0700
TZOFFSETTO:-0800
TZNAME:PST
DTSTART:20231105T090000
END:STANDARD
BEGIN:DAYLIGHT
TZOFFSETFROM:-0800
TZOFFSETTO:-0700
TZNAME:PDT
DTSTART:20240310T100000
END:DAYLIGHT
BEGIN:STANDARD
TZOFFSETFROM:-0700
TZOFFSETTO:-0800
TZNAME:PST
DTSTART:20241103T090000
END:STANDARD
END:VTIMEZONE
BEGIN:VEVENT
DTSTART;TZID=America/Vancouver:20231004T050000
DTEND;TZID=America/Vancouver:20231004T060000
DTSTAMP:20260422T104413
CREATED:20230908T042037Z
LAST-MODIFIED:20230908T042037Z
UID:13076-1696395600-1696399200@danishchurch.vancouver.bc.ca
SUMMARY:Yoga (hatha)
DESCRIPTION:Hatha yoga for all
URL:https://danishchurch.vancouver.bc.ca/event/yoga-hatha-2/
CATEGORIES:CFC
ATTACH;FMTTYPE=image/jpeg:https://danishchurch.vancouver.bc.ca/wp-content/uploads/Yoga-1.jpg
END:VEVENT
BEGIN:VEVENT
DTSTART;TZID=America/Vancouver:20231004T100000
DTEND;TZID=America/Vancouver:20231004T110000
DTSTAMP:20260422T104413
CREATED:20230908T042036Z
LAST-MODIFIED:20230908T042036Z
UID:13075-1696413600-1696417200@danishchurch.vancouver.bc.ca
SUMMARY:Yoga (sitting)
DESCRIPTION:Sitting yoga for seniors
URL:https://danishchurch.vancouver.bc.ca/event/yoga-sitting-2/
CATEGORIES:CFC
ATTACH;FMTTYPE=image/png:https://danishchurch.vancouver.bc.ca/wp-content/uploads/Yoga-2.png
END:VEVENT
BEGIN:VEVENT
DTSTART;TZID=America/Vancouver:20231005T160000
DTEND;TZID=America/Vancouver:20231005T170000
DTSTAMP:20260422T104413
CREATED:20230908T042035Z
LAST-MODIFIED:20230908T042035Z
UID:13074-1696521600-1696525200@danishchurch.vancouver.bc.ca
SUMMARY:Mini Confirmation
DESCRIPTION:Mini Confirmation Classes for children ages 2-12
URL:https://danishchurch.vancouver.bc.ca/event/mini-confirmation-2/
CATEGORIES:CFC
ATTACH;FMTTYPE=image/jpeg:https://danishchurch.vancouver.bc.ca/wp-content/uploads/Photo-2023-04-02-12-13-53-PM-scaled-bLRlCl.tmp_.jpg
END:VEVENT
BEGIN:VEVENT
DTSTART;TZID=America/Vancouver:20231011T100000
DTEND;TZID=America/Vancouver:20231011T110000
DTSTAMP:20260422T104413
CREATED:20230909T011122Z
LAST-MODIFIED:20230909T011122Z
UID:13133-1697018400-1697022000@danishchurch.vancouver.bc.ca
SUMMARY:Yoga (sitting)
DESCRIPTION:Sitting yoga for seniors
URL:https://danishchurch.vancouver.bc.ca/event/yoga-sitting-3/
CATEGORIES:CFC
ATTACH;FMTTYPE=image/png:https://danishchurch.vancouver.bc.ca/wp-content/uploads/Yoga-2.png
END:VEVENT
BEGIN:VEVENT
DTSTART;TZID=America/Vancouver:20231011T170000
DTEND;TZID=America/Vancouver:20231011T180000
DTSTAMP:20260422T104413
CREATED:20230909T011124Z
LAST-MODIFIED:20230909T011124Z
UID:13134-1697043600-1697047200@danishchurch.vancouver.bc.ca
SUMMARY:Yoga (hatha)
DESCRIPTION:Hatha yoga for all
URL:https://danishchurch.vancouver.bc.ca/event/yoga-hatha-3/
CATEGORIES:CFC
ATTACH;FMTTYPE=image/jpeg:https://danishchurch.vancouver.bc.ca/wp-content/uploads/Yoga-1.jpg
END:VEVENT
BEGIN:VEVENT
DTSTART;TZID=America/Vancouver:20231017T110000
DTEND;TZID=America/Vancouver:20231017T130000
DTSTAMP:20260422T104413
CREATED:20230909T011130Z
LAST-MODIFIED:20230909T011130Z
UID:13138-1697540400-1697547600@danishchurch.vancouver.bc.ca
SUMMARY:Baby/Toddler Group
DESCRIPTION:Parents (or parents to-be) can meet in the church to make connections and talk about being a parent to a new-born
URL:https://danishchurch.vancouver.bc.ca/event/baby-toddler-group/
CATEGORIES:CFC
END:VEVENT
BEGIN:VEVENT
DTSTART;TZID=America/Vancouver:20231018T100000
DTEND;TZID=America/Vancouver:20231018T110000
DTSTAMP:20260422T104413
CREATED:20230909T011131Z
LAST-MODIFIED:20230909T011131Z
UID:13140-1697623200-1697626800@danishchurch.vancouver.bc.ca
SUMMARY:Yoga (sitting)
DESCRIPTION:Sitting yoga for seniors
URL:https://danishchurch.vancouver.bc.ca/event/yoga-sitting-4/
CATEGORIES:CFC
ATTACH;FMTTYPE=image/png:https://danishchurch.vancouver.bc.ca/wp-content/uploads/Yoga-2.png
END:VEVENT
BEGIN:VEVENT
DTSTART;TZID=America/Vancouver:20231018T170000
DTEND;TZID=America/Vancouver:20231018T180000
DTSTAMP:20260422T104413
CREATED:20230909T011131Z
LAST-MODIFIED:20230909T011131Z
UID:13141-1697648400-1697652000@danishchurch.vancouver.bc.ca
SUMMARY:Yoga (hatha)
DESCRIPTION:Hatha yoga for all
URL:https://danishchurch.vancouver.bc.ca/event/yoga-hatha-4/
CATEGORIES:CFC
ATTACH;FMTTYPE=image/jpeg:https://danishchurch.vancouver.bc.ca/wp-content/uploads/Yoga-1.jpg
END:VEVENT
BEGIN:VEVENT
DTSTART;TZID=America/Vancouver:20231019T160000
DTEND;TZID=America/Vancouver:20231019T170000
DTSTAMP:20260422T104413
CREATED:20230909T011145Z
LAST-MODIFIED:20230909T011145Z
UID:13143-1697731200-1697734800@danishchurch.vancouver.bc.ca
SUMMARY:Mini Confirmation
DESCRIPTION:Classes for children ages 2-12
URL:https://danishchurch.vancouver.bc.ca/event/mini-confirmation-3/
CATEGORIES:CFC
ATTACH;FMTTYPE=image/jpeg:https://danishchurch.vancouver.bc.ca/wp-content/uploads/Photo-2023-04-02-12-13-53-PM-scaled-bLRlCl.tmp_.jpg
END:VEVENT
BEGIN:VEVENT
DTSTART;TZID=America/Vancouver:20231025T100000
DTEND;TZID=America/Vancouver:20231025T110000
DTSTAMP:20260422T104413
CREATED:20230909T011148Z
LAST-MODIFIED:20230909T011148Z
UID:13146-1698228000-1698231600@danishchurch.vancouver.bc.ca
SUMMARY:Yoga (sitting)
DESCRIPTION:Sitting yoga for seniors
URL:https://danishchurch.vancouver.bc.ca/event/yoga-sitting-5/
CATEGORIES:CFC
ATTACH;FMTTYPE=image/png:https://danishchurch.vancouver.bc.ca/wp-content/uploads/Yoga-2.png
END:VEVENT
BEGIN:VEVENT
DTSTART;TZID=America/Vancouver:20231026T170000
DTEND;TZID=America/Vancouver:20231026T190000
DTSTAMP:20260422T104413
CREATED:20230909T011204Z
LAST-MODIFIED:20230909T011204Z
UID:13147-1698339600-1698346800@danishchurch.vancouver.bc.ca
SUMMARY:Youth Club
DESCRIPTION:Youth Club events for teens
URL:https://danishchurch.vancouver.bc.ca/event/youth-club-2/
CATEGORIES:CFC
ATTACH;FMTTYPE=image/jpeg:https://danishchurch.vancouver.bc.ca/wp-content/uploads/Youth-Club-1.jpeg
END:VEVENT
END:VCALENDAR