BEGIN:VCALENDAR
VERSION:2.0
PRODID:-//The Danish Lutheran Church of Vancouver, B.C. - ECPv6.15.20//NONSGML v1.0//EN
CALSCALE:GREGORIAN
METHOD:PUBLISH
X-WR-CALNAME:The Danish Lutheran Church of Vancouver, B.C.
X-ORIGINAL-URL:https://danishchurch.vancouver.bc.ca
X-WR-CALDESC:Events for The Danish Lutheran Church of Vancouver, B.C.
REFRESH-INTERVAL;VALUE=DURATION:PT1H
X-Robots-Tag:noindex
X-PUBLISHED-TTL:PT1H
BEGIN:VTIMEZONE
TZID:America/Vancouver
BEGIN:DAYLIGHT
TZOFFSETFROM:-0800
TZOFFSETTO:-0700
TZNAME:PDT
DTSTART:20220313T100000
END:DAYLIGHT
BEGIN:STANDARD
TZOFFSETFROM:-0700
TZOFFSETTO:-0800
TZNAME:PST
DTSTART:20221106T090000
END:STANDARD
BEGIN:DAYLIGHT
TZOFFSETFROM:-0800
TZOFFSETTO:-0700
TZNAME:PDT
DTSTART:20230312T100000
END:DAYLIGHT
BEGIN:STANDARD
TZOFFSETFROM:-0700
TZOFFSETTO:-0800
TZNAME:PST
DTSTART:20231105T090000
END:STANDARD
BEGIN:DAYLIGHT
TZOFFSETFROM:-0800
TZOFFSETTO:-0700
TZNAME:PDT
DTSTART:20240310T100000
END:DAYLIGHT
BEGIN:STANDARD
TZOFFSETFROM:-0700
TZOFFSETTO:-0800
TZNAME:PST
DTSTART:20241103T090000
END:STANDARD
END:VTIMEZONE
BEGIN:VEVENT
DTSTART;TZID=America/Vancouver:20231101T100000
DTEND;TZID=America/Vancouver:20231101T110000
DTSTAMP:20260422T104409
CREATED:20230909T011205Z
LAST-MODIFIED:20230909T011205Z
UID:13149-1698832800-1698836400@danishchurch.vancouver.bc.ca
SUMMARY:Yoga (sitting)
DESCRIPTION:Sitting yoga for seniors
URL:https://danishchurch.vancouver.bc.ca/event/yoga-sitting-6/
CATEGORIES:CFC
ATTACH;FMTTYPE=image/png:https://danishchurch.vancouver.bc.ca/wp-content/uploads/Yoga-2.png
END:VEVENT
BEGIN:VEVENT
DTSTART;TZID=America/Vancouver:20231101T170000
DTEND;TZID=America/Vancouver:20231101T180000
DTSTAMP:20260422T104409
CREATED:20230909T011206Z
LAST-MODIFIED:20230909T011206Z
UID:13150-1698858000-1698861600@danishchurch.vancouver.bc.ca
SUMMARY:Yoga (hatha)
DESCRIPTION:Hatha yoga for all
URL:https://danishchurch.vancouver.bc.ca/event/yoga-hatha-5/
CATEGORIES:CFC
ATTACH;FMTTYPE=image/jpeg:https://danishchurch.vancouver.bc.ca/wp-content/uploads/Yoga-1.jpg
END:VEVENT
BEGIN:VEVENT
DTSTART;TZID=America/Vancouver:20231102T160000
DTEND;TZID=America/Vancouver:20231102T170000
DTSTAMP:20260422T104409
CREATED:20230909T011221Z
LAST-MODIFIED:20230909T011221Z
UID:13152-1698940800-1698944400@danishchurch.vancouver.bc.ca
SUMMARY:Mini Confirmation
DESCRIPTION:Classes for children ages 2-12
URL:https://danishchurch.vancouver.bc.ca/event/mini-confirmation-4/
CATEGORIES:CFC
ATTACH;FMTTYPE=image/jpeg:https://danishchurch.vancouver.bc.ca/wp-content/uploads/Photo-2023-04-02-12-13-53-PM-scaled-bLRlCl.tmp_.jpg
END:VEVENT
BEGIN:VEVENT
DTSTART;TZID=America/Vancouver:20231108T100000
DTEND;TZID=America/Vancouver:20231108T110000
DTSTAMP:20260422T104409
CREATED:20230909T011223Z
LAST-MODIFIED:20230909T011223Z
UID:13155-1699437600-1699441200@danishchurch.vancouver.bc.ca
SUMMARY:Yoga (sitting)
DESCRIPTION:Sitting yoga for seniors
URL:https://danishchurch.vancouver.bc.ca/event/yoga-sitting-7/
CATEGORIES:CFC
ATTACH;FMTTYPE=image/png:https://danishchurch.vancouver.bc.ca/wp-content/uploads/Yoga-2.png
END:VEVENT
BEGIN:VEVENT
DTSTART;TZID=America/Vancouver:20231108T170000
DTEND;TZID=America/Vancouver:20231108T180000
DTSTAMP:20260422T104409
CREATED:20230909T011224Z
LAST-MODIFIED:20230909T011224Z
UID:13156-1699462800-1699466400@danishchurch.vancouver.bc.ca
SUMMARY:Yoga (hatha)
DESCRIPTION:Hatha yoga for all
URL:https://danishchurch.vancouver.bc.ca/event/yoga-hatha-6/
CATEGORIES:CFC
ATTACH;FMTTYPE=image/jpeg:https://danishchurch.vancouver.bc.ca/wp-content/uploads/Yoga-1.jpg
END:VEVENT
BEGIN:VEVENT
DTSTART;TZID=America/Vancouver:20231115T100000
DTEND;TZID=America/Vancouver:20231115T110000
DTSTAMP:20260422T104409
CREATED:20230909T011241Z
LAST-MODIFIED:20230909T011241Z
UID:13162-1700042400-1700046000@danishchurch.vancouver.bc.ca
SUMMARY:Yoga (sitting)
DESCRIPTION:Sitting yoga for seniors
URL:https://danishchurch.vancouver.bc.ca/event/yoga-sitting-8/
CATEGORIES:CFC
ATTACH;FMTTYPE=image/png:https://danishchurch.vancouver.bc.ca/wp-content/uploads/Yoga-2.png
END:VEVENT
BEGIN:VEVENT
DTSTART;TZID=America/Vancouver:20231115T170000
DTEND;TZID=America/Vancouver:20231115T180000
DTSTAMP:20260422T104409
CREATED:20230909T011242Z
LAST-MODIFIED:20230909T011242Z
UID:13163-1700067600-1700071200@danishchurch.vancouver.bc.ca
SUMMARY:Yoga (hatha)
DESCRIPTION:Hatha yoga for all
URL:https://danishchurch.vancouver.bc.ca/event/yoga-hatha-7/
CATEGORIES:CFC
ATTACH;FMTTYPE=image/jpeg:https://danishchurch.vancouver.bc.ca/wp-content/uploads/Yoga-1.jpg
END:VEVENT
BEGIN:VEVENT
DTSTART;TZID=America/Vancouver:20231116T160000
DTEND;TZID=America/Vancouver:20231116T170000
DTSTAMP:20260422T104409
CREATED:20230909T011258Z
LAST-MODIFIED:20230909T011258Z
UID:13166-1700150400-1700154000@danishchurch.vancouver.bc.ca
SUMMARY:Mini Confirmation
DESCRIPTION:Classes for children ages 2-12
URL:https://danishchurch.vancouver.bc.ca/event/mini-confirmation-5/
CATEGORIES:CFC
ATTACH;FMTTYPE=image/jpeg:https://danishchurch.vancouver.bc.ca/wp-content/uploads/Photo-2023-04-02-12-13-53-PM-scaled-bLRlCl.tmp_.jpg
END:VEVENT
BEGIN:VEVENT
DTSTART;TZID=America/Vancouver:20231121T110000
DTEND;TZID=America/Vancouver:20231121T130000
DTSTAMP:20260422T104409
CREATED:20230909T011300Z
LAST-MODIFIED:20230909T011300Z
UID:13169-1700564400-1700571600@danishchurch.vancouver.bc.ca
SUMMARY:Baby/Toddler Group
DESCRIPTION:Parents (or parents to-be) can meet in the church to make connections and talk about being a parent to a new-born
URL:https://danishchurch.vancouver.bc.ca/event/baby-toddler-group-2/
CATEGORIES:CFC
END:VEVENT
BEGIN:VEVENT
DTSTART;TZID=America/Vancouver:20231122T100000
DTEND;TZID=America/Vancouver:20231122T110000
DTSTAMP:20260422T104409
CREATED:20230909T011315Z
LAST-MODIFIED:20230909T011315Z
UID:13170-1700647200-1700650800@danishchurch.vancouver.bc.ca
SUMMARY:Yoga (sitting)
DESCRIPTION:Sitting yoga for seniors
URL:https://danishchurch.vancouver.bc.ca/event/yoga-sitting-9/
CATEGORIES:CFC
ATTACH;FMTTYPE=image/png:https://danishchurch.vancouver.bc.ca/wp-content/uploads/Yoga-2.png
END:VEVENT
BEGIN:VEVENT
DTSTART;TZID=America/Vancouver:20231122T170000
DTEND;TZID=America/Vancouver:20231122T180000
DTSTAMP:20260422T104409
CREATED:20230909T011316Z
LAST-MODIFIED:20230909T011316Z
UID:13171-1700672400-1700676000@danishchurch.vancouver.bc.ca
SUMMARY:Yoga (hatha)
DESCRIPTION:Hatha yoga for all
URL:https://danishchurch.vancouver.bc.ca/event/yoga-hatha-8/
CATEGORIES:CFC
ATTACH;FMTTYPE=image/jpeg:https://danishchurch.vancouver.bc.ca/wp-content/uploads/Yoga-1.jpg
END:VEVENT
BEGIN:VEVENT
DTSTART;TZID=America/Vancouver:20231123T170000
DTEND;TZID=America/Vancouver:20231123T190000
DTSTAMP:20260422T104409
CREATED:20230909T011316Z
LAST-MODIFIED:20230909T011316Z
UID:13172-1700758800-1700766000@danishchurch.vancouver.bc.ca
SUMMARY:Youth Club
DESCRIPTION:Youth Club events for teens
URL:https://danishchurch.vancouver.bc.ca/event/youth-club-3/
CATEGORIES:CFC
ATTACH;FMTTYPE=image/jpeg:https://danishchurch.vancouver.bc.ca/wp-content/uploads/Youth-Club-1.jpeg
END:VEVENT
BEGIN:VEVENT
DTSTART;TZID=America/Vancouver:20231129T100000
DTEND;TZID=America/Vancouver:20231129T110000
DTSTAMP:20260422T104409
CREATED:20230909T011317Z
LAST-MODIFIED:20230909T011317Z
UID:13173-1701252000-1701255600@danishchurch.vancouver.bc.ca
SUMMARY:Yoga (sitting)
DESCRIPTION:Sitting yoga for seniors
URL:https://danishchurch.vancouver.bc.ca/event/yoga-sitting-10/
CATEGORIES:CFC
ATTACH;FMTTYPE=image/png:https://danishchurch.vancouver.bc.ca/wp-content/uploads/Yoga-2.png
END:VEVENT
BEGIN:VEVENT
DTSTART;TZID=America/Vancouver:20231129T170000
DTEND;TZID=America/Vancouver:20231129T180000
DTSTAMP:20260422T104409
CREATED:20230909T011318Z
LAST-MODIFIED:20230909T011318Z
UID:13174-1701277200-1701280800@danishchurch.vancouver.bc.ca
SUMMARY:Yoga (hatha)
DESCRIPTION:Hatha yoga for all
URL:https://danishchurch.vancouver.bc.ca/event/yoga-hatha-9/
CATEGORIES:CFC
ATTACH;FMTTYPE=image/jpeg:https://danishchurch.vancouver.bc.ca/wp-content/uploads/Yoga-1.jpg
END:VEVENT
BEGIN:VEVENT
DTSTART;TZID=America/Vancouver:20231130T160000
DTEND;TZID=America/Vancouver:20231130T170000
DTSTAMP:20260422T104409
CREATED:20230909T011332Z
LAST-MODIFIED:20230909T011332Z
UID:13175-1701360000-1701363600@danishchurch.vancouver.bc.ca
SUMMARY:Mini Confirmation
DESCRIPTION:Classes for children ages 2-12
URL:https://danishchurch.vancouver.bc.ca/event/mini-confirmation-6/
CATEGORIES:CFC
ATTACH;FMTTYPE=image/jpeg:https://danishchurch.vancouver.bc.ca/wp-content/uploads/Photo-2023-04-02-12-13-53-PM-scaled-bLRlCl.tmp_.jpg
END:VEVENT
END:VCALENDAR