BEGIN:VCALENDAR
VERSION:2.0
PRODID:-//The Danish Lutheran Church of Vancouver, B.C. - ECPv6.15.20//NONSGML v1.0//EN
CALSCALE:GREGORIAN
METHOD:PUBLISH
X-WR-CALNAME:The Danish Lutheran Church of Vancouver, B.C.
X-ORIGINAL-URL:https://danishchurch.vancouver.bc.ca
X-WR-CALDESC:Events for The Danish Lutheran Church of Vancouver, B.C.
REFRESH-INTERVAL;VALUE=DURATION:PT1H
X-Robots-Tag:noindex
X-PUBLISHED-TTL:PT1H
BEGIN:VTIMEZONE
TZID:America/Vancouver
BEGIN:DAYLIGHT
TZOFFSETFROM:-0800
TZOFFSETTO:-0700
TZNAME:PDT
DTSTART:20230312T100000
END:DAYLIGHT
BEGIN:STANDARD
TZOFFSETFROM:-0700
TZOFFSETTO:-0800
TZNAME:PST
DTSTART:20231105T090000
END:STANDARD
BEGIN:DAYLIGHT
TZOFFSETFROM:-0800
TZOFFSETTO:-0700
TZNAME:PDT
DTSTART:20240310T100000
END:DAYLIGHT
BEGIN:STANDARD
TZOFFSETFROM:-0700
TZOFFSETTO:-0800
TZNAME:PST
DTSTART:20241103T090000
END:STANDARD
BEGIN:DAYLIGHT
TZOFFSETFROM:-0800
TZOFFSETTO:-0700
TZNAME:PDT
DTSTART:20250309T100000
END:DAYLIGHT
BEGIN:STANDARD
TZOFFSETFROM:-0700
TZOFFSETTO:-0800
TZNAME:PST
DTSTART:20251102T090000
END:STANDARD
END:VTIMEZONE
BEGIN:VEVENT
DTSTART;TZID=America/Vancouver:20240303T130000
DTEND;TZID=America/Vancouver:20240303T160000
DTSTAMP:20260422T015835
CREATED:20240226T174644Z
LAST-MODIFIED:20240226T181706Z
UID:17355-1709470800-1709481600@danishchurch.vancouver.bc.ca
SUMMARY:CANCELLED - Youth Club – Snowshoe with the Church
DESCRIPTION:The Youth Club of the Danish Lutheran Church was supposed to go Snow Shoeing on Sunday 3rd of March at 2pm. Well\, due to lack of snow we have to change our plans.\nInstead we will watch a movie together. And why not see a movie that can be followed up with a trip to the cinema 🎥🤩 \nWhich one would you prefer? \nAlso\, please let our Cultural Family Coordinator know if you plan to come (no later than Friday 1st of March): \ncamilla@danishchurch.vancouver.bc.ca \nCamilla Ejsing
URL:https://danishchurch.vancouver.bc.ca/event/youth-club-snowshoe-with-the-church/
CATEGORIES:CFC
ATTACH;FMTTYPE=image/jpeg:https://danishchurch.vancouver.bc.ca/wp-content/uploads/CYP22017-9.jpg
END:VEVENT
END:VCALENDAR