BEGIN:VCALENDAR
VERSION:2.0
PRODID:-//The Danish Lutheran Church of Vancouver, B.C. - ECPv6.15.20//NONSGML v1.0//EN
CALSCALE:GREGORIAN
METHOD:PUBLISH
X-WR-CALNAME:The Danish Lutheran Church of Vancouver, B.C.
X-ORIGINAL-URL:https://danishchurch.vancouver.bc.ca
X-WR-CALDESC:Events for The Danish Lutheran Church of Vancouver, B.C.
REFRESH-INTERVAL;VALUE=DURATION:PT1H
X-Robots-Tag:noindex
X-PUBLISHED-TTL:PT1H
BEGIN:VTIMEZONE
TZID:America/Vancouver
BEGIN:DAYLIGHT
TZOFFSETFROM:-0800
TZOFFSETTO:-0700
TZNAME:PDT
DTSTART:20230312T100000
END:DAYLIGHT
BEGIN:STANDARD
TZOFFSETFROM:-0700
TZOFFSETTO:-0800
TZNAME:PST
DTSTART:20231105T090000
END:STANDARD
BEGIN:DAYLIGHT
TZOFFSETFROM:-0800
TZOFFSETTO:-0700
TZNAME:PDT
DTSTART:20240310T100000
END:DAYLIGHT
BEGIN:STANDARD
TZOFFSETFROM:-0700
TZOFFSETTO:-0800
TZNAME:PST
DTSTART:20241103T090000
END:STANDARD
BEGIN:DAYLIGHT
TZOFFSETFROM:-0800
TZOFFSETTO:-0700
TZNAME:PDT
DTSTART:20250309T100000
END:DAYLIGHT
BEGIN:STANDARD
TZOFFSETFROM:-0700
TZOFFSETTO:-0800
TZNAME:PST
DTSTART:20251102T090000
END:STANDARD
END:VTIMEZONE
BEGIN:VEVENT
DTSTART;TZID=America/Vancouver:20240501T110000
DTEND;TZID=America/Vancouver:20240501T120000
DTSTAMP:20260421T230859
CREATED:20240428T213327Z
LAST-MODIFIED:20240501T170000Z
UID:17609-1714561200-1714564800@danishchurch.vancouver.bc.ca
SUMMARY:Yoga (sitting)
DESCRIPTION:
URL:https://danishchurch.vancouver.bc.ca/event/yoga-sitting-15/
LOCATION:Church Hall\, 6010 Kincaid Street\, Burnaby\, BC\, V5G 4N3\, Canada
CATEGORIES:CFC,Weekly
ORGANIZER;CN="Camilla Ejsing":MAILTO:camilla@danishchurch.vancouver.bc.ca
END:VEVENT
BEGIN:VEVENT
DTSTART;TZID=America/Vancouver:20240501T170000
DTEND;TZID=America/Vancouver:20240501T180000
DTSTAMP:20260421T230859
CREATED:20240428T213644Z
LAST-MODIFIED:20240501T165421Z
UID:17611-1714582800-1714586400@danishchurch.vancouver.bc.ca
SUMMARY:Yoga (hatha)
DESCRIPTION:
URL:https://danishchurch.vancouver.bc.ca/event/yoga-hatha-14/
LOCATION:Church Hall\, 6010 Kincaid Street\, Burnaby\, BC\, V5G 4N3\, Canada
CATEGORIES:CFC,Weekly
ATTACH;FMTTYPE=image/png:https://danishchurch.vancouver.bc.ca/wp-content/uploads/Yoga-2.png
ORGANIZER;CN="Camilla Ejsing":MAILTO:camilla@danishchurch.vancouver.bc.ca
END:VEVENT
BEGIN:VEVENT
DTSTART;TZID=America/Vancouver:20240502T153000
DTEND;TZID=America/Vancouver:20240502T163000
DTSTAMP:20260421T230859
CREATED:20240428T215807Z
LAST-MODIFIED:20240501T165802Z
UID:17618-1714663800-1714667400@danishchurch.vancouver.bc.ca
SUMMARY:Mini Confirmation
DESCRIPTION:
URL:https://danishchurch.vancouver.bc.ca/event/mini-confirmation-8/
LOCATION:Church Hall\, 6010 Kincaid Street\, Burnaby\, BC\, V5G 4N3\, Canada
CATEGORIES:CFC
ATTACH;FMTTYPE=image/jpeg:https://danishchurch.vancouver.bc.ca/wp-content/uploads/Mini-Confirmation-1.jpg
ORGANIZER;CN="Camilla Ejsing":MAILTO:camilla@danishchurch.vancouver.bc.ca
END:VEVENT
BEGIN:VEVENT
DTSTART;TZID=America/Vancouver:20240515T110000
DTEND;TZID=America/Vancouver:20240515T170000
DTSTAMP:20260421T230859
CREATED:20240514T040321Z
LAST-MODIFIED:20240514T040341Z
UID:17743-1715770800-1715792400@danishchurch.vancouver.bc.ca
SUMMARY:Yoga (sitting)
DESCRIPTION:Sitting yoga for seniors.
URL:https://danishchurch.vancouver.bc.ca/event/yoga-sitting-16/
LOCATION:Church Hall\, 6010 Kincaid Street\, Burnaby\, BC\, V5G 4N3\, Canada
CATEGORIES:CFC
ORGANIZER;CN="Camilla Ejsing":MAILTO:camilla@danishchurch.vancouver.bc.ca
END:VEVENT
BEGIN:VEVENT
DTSTART;TZID=America/Vancouver:20240515T170000
DTEND;TZID=America/Vancouver:20240515T180000
DTSTAMP:20260421T230859
CREATED:20240514T040735Z
LAST-MODIFIED:20240514T040735Z
UID:17746-1715792400-1715796000@danishchurch.vancouver.bc.ca
SUMMARY:Yoga (hatha)
DESCRIPTION:
URL:https://danishchurch.vancouver.bc.ca/event/yoga-hatha-15/
LOCATION:Church Hall\, 6010 Kincaid Street\, Burnaby\, BC\, V5G 4N3\, Canada
CATEGORIES:CFC
ORGANIZER;CN="Camilla Ejsing":MAILTO:camilla@danishchurch.vancouver.bc.ca
END:VEVENT
BEGIN:VEVENT
DTSTART;TZID=America/Vancouver:20240516T153000
DTEND;TZID=America/Vancouver:20240516T153000
DTSTAMP:20260421T230859
CREATED:20240514T041002Z
LAST-MODIFIED:20240514T041101Z
UID:17748-1715873400-1715873400@danishchurch.vancouver.bc.ca
SUMMARY:Mini Confirmation
DESCRIPTION:
URL:https://danishchurch.vancouver.bc.ca/event/mini-confirmation-9/
CATEGORIES:CFC
ORGANIZER;CN="Camilla Ejsing":MAILTO:camilla@danishchurch.vancouver.bc.ca
END:VEVENT
BEGIN:VEVENT
DTSTART;TZID=America/Vancouver:20240521T110000
DTEND;TZID=America/Vancouver:20240521T120000
DTSTAMP:20260421T230859
CREATED:20240514T042655Z
LAST-MODIFIED:20240514T043313Z
UID:17753-1716289200-1716292800@danishchurch.vancouver.bc.ca
SUMMARY:Mom 'N Me
DESCRIPTION:
URL:https://danishchurch.vancouver.bc.ca/event/mom-n-me-2/
LOCATION:Church Hall\, 6010 Kincaid Street\, Burnaby\, BC\, V5G 4N3\, Canada
CATEGORIES:CFC
ATTACH;FMTTYPE=image/jpeg:https://danishchurch.vancouver.bc.ca/wp-content/uploads/Mom-N-Me-generic-e1715661309811.jpg
ORGANIZER;CN="Camilla Ejsing":MAILTO:camilla@danishchurch.vancouver.bc.ca
END:VEVENT
BEGIN:VEVENT
DTSTART;TZID=America/Vancouver:20240525T110000
DTEND;TZID=America/Vancouver:20240525T170000
DTSTAMP:20260421T230859
CREATED:20240103T215940Z
LAST-MODIFIED:20240501T032939Z
UID:16724-1716634800-1716656400@danishchurch.vancouver.bc.ca
SUMMARY:Wild Play with the Youth Club
DESCRIPTION:Weather allows us to be outside enabling us to enjoy the glorious nature that\nsurrounds us. Because of this\, the next event for teenagers that we would like to invite\nthem to\, will take place at the Wild Play in Maple Ridge on Saturday 25th of May at 11am.\nThe church will pay for lunch and entrance fee and will coordinate carpooling. \nPlease let the Cultural Family Coordinator know if you want to join no later than the 20th of May.
URL:https://danishchurch.vancouver.bc.ca/event/wild-play-with-the-youth-club/
CATEGORIES:CFC
ATTACH;FMTTYPE=image/jpeg:https://danishchurch.vancouver.bc.ca/wp-content/uploads/Elfin-4-e1714533575776.jpg
END:VEVENT
END:VCALENDAR