BEGIN:VCALENDAR
VERSION:2.0
PRODID:-//The Danish Lutheran Church of Vancouver, B.C. - ECPv6.15.20//NONSGML v1.0//EN
CALSCALE:GREGORIAN
METHOD:PUBLISH
X-ORIGINAL-URL:https://danishchurch.vancouver.bc.ca
X-WR-CALDESC:Events for The Danish Lutheran Church of Vancouver, B.C.
REFRESH-INTERVAL;VALUE=DURATION:PT1H
X-Robots-Tag:noindex
X-PUBLISHED-TTL:PT1H
BEGIN:VTIMEZONE
TZID:America/Vancouver
BEGIN:DAYLIGHT
TZOFFSETFROM:-0800
TZOFFSETTO:-0700
TZNAME:PDT
DTSTART:20230312T100000
END:DAYLIGHT
BEGIN:STANDARD
TZOFFSETFROM:-0700
TZOFFSETTO:-0800
TZNAME:PST
DTSTART:20231105T090000
END:STANDARD
BEGIN:DAYLIGHT
TZOFFSETFROM:-0800
TZOFFSETTO:-0700
TZNAME:PDT
DTSTART:20240310T100000
END:DAYLIGHT
BEGIN:STANDARD
TZOFFSETFROM:-0700
TZOFFSETTO:-0800
TZNAME:PST
DTSTART:20241103T090000
END:STANDARD
BEGIN:DAYLIGHT
TZOFFSETFROM:-0800
TZOFFSETTO:-0700
TZNAME:PDT
DTSTART:20250309T100000
END:DAYLIGHT
BEGIN:STANDARD
TZOFFSETFROM:-0700
TZOFFSETTO:-0800
TZNAME:PST
DTSTART:20251102T090000
END:STANDARD
END:VTIMEZONE
BEGIN:VEVENT
DTSTART;TZID=America/Vancouver:20240424T110000
DTEND;TZID=America/Vancouver:20240424T120000
DTSTAMP:20260422T020303
CREATED:20240423T013919Z
LAST-MODIFIED:20240501T165341Z
UID:17566-1713956400-1713960000@danishchurch.vancouver.bc.ca
SUMMARY:Yoga (sitting)
DESCRIPTION:
URL:https://danishchurch.vancouver.bc.ca/event/yoga-sitting-14/
LOCATION:Church Hall\, 6010 Kincaid Street\, Burnaby\, BC\, V5G 4N3\, Canada
CATEGORIES:CFC,Weekly
ATTACH;FMTTYPE=image/jpeg:https://danishchurch.vancouver.bc.ca/wp-content/uploads/Yoga-1.jpg
ORGANIZER;CN="Camilla Ejsing":MAILTO:camilla@danishchurch.vancouver.bc.ca
END:VEVENT
BEGIN:VEVENT
DTSTART;TZID=America/Vancouver:20240424T173000
DTEND;TZID=America/Vancouver:20240424T183000
DTSTAMP:20260422T020303
CREATED:20240423T013216Z
LAST-MODIFIED:20240423T014206Z
UID:17563-1713979800-1713983400@danishchurch.vancouver.bc.ca
SUMMARY:Yoga (hatha)
DESCRIPTION:
URL:https://danishchurch.vancouver.bc.ca/event/yoga-hatha-13/
LOCATION:Church Hall\, 6010 Kincaid Street\, Burnaby\, BC\, V5G 4N3\, Canada
CATEGORIES:CFC
ORGANIZER;CN="Camilla Ejsing":MAILTO:camilla@danishchurch.vancouver.bc.ca
END:VEVENT
END:VCALENDAR