BEGIN:VCALENDAR
VERSION:2.0
PRODID:-//The Danish Lutheran Church of Vancouver, B.C. - ECPv6.15.20//NONSGML v1.0//EN
CALSCALE:GREGORIAN
METHOD:PUBLISH
X-ORIGINAL-URL:https://danishchurch.vancouver.bc.ca
X-WR-CALDESC:Events for The Danish Lutheran Church of Vancouver, B.C.
REFRESH-INTERVAL;VALUE=DURATION:PT1H
X-Robots-Tag:noindex
X-PUBLISHED-TTL:PT1H
BEGIN:VTIMEZONE
TZID:America/Vancouver
BEGIN:DAYLIGHT
TZOFFSETFROM:-0800
TZOFFSETTO:-0700
TZNAME:PDT
DTSTART:20230312T100000
END:DAYLIGHT
BEGIN:STANDARD
TZOFFSETFROM:-0700
TZOFFSETTO:-0800
TZNAME:PST
DTSTART:20231105T090000
END:STANDARD
BEGIN:DAYLIGHT
TZOFFSETFROM:-0800
TZOFFSETTO:-0700
TZNAME:PDT
DTSTART:20240310T100000
END:DAYLIGHT
BEGIN:STANDARD
TZOFFSETFROM:-0700
TZOFFSETTO:-0800
TZNAME:PST
DTSTART:20241103T090000
END:STANDARD
BEGIN:DAYLIGHT
TZOFFSETFROM:-0800
TZOFFSETTO:-0700
TZNAME:PDT
DTSTART:20250309T100000
END:DAYLIGHT
BEGIN:STANDARD
TZOFFSETFROM:-0700
TZOFFSETTO:-0800
TZNAME:PST
DTSTART:20251102T090000
END:STANDARD
BEGIN:DAYLIGHT
TZOFFSETFROM:-0800
TZOFFSETTO:-0700
TZNAME:PDT
DTSTART:20260308T100000
END:DAYLIGHT
BEGIN:STANDARD
TZOFFSETFROM:-0700
TZOFFSETTO:-0800
TZNAME:PST
DTSTART:20261101T090000
END:STANDARD
END:VTIMEZONE
BEGIN:VEVENT
DTSTART;TZID=America/Vancouver:20241120T110000
DTEND;TZID=America/Vancouver:20241120T120000
DTSTAMP:20260422T152941
CREATED:20240910T003352Z
LAST-MODIFIED:20241114T174951Z
UID:18076-1732100400-1732104000@danishchurch.vancouver.bc.ca
SUMMARY:Wed - Yoga
DESCRIPTION:
URL:https://danishchurch.vancouver.bc.ca/event/yoga-29/
CATEGORIES:CFC,Weekly
END:VEVENT
BEGIN:VEVENT
DTSTART;TZID=America/Vancouver:20241120T170000
DTEND;TZID=America/Vancouver:20241120T180000
DTSTAMP:20260422T152941
CREATED:20240910T002947Z
LAST-MODIFIED:20241114T174918Z
UID:18064-1732122000-1732125600@danishchurch.vancouver.bc.ca
SUMMARY:Wed - Yoga
DESCRIPTION:
URL:https://danishchurch.vancouver.bc.ca/event/yoga-19/
CATEGORIES:CFC,Weekly
ATTACH;FMTTYPE=image/jpeg:https://danishchurch.vancouver.bc.ca/wp-content/uploads/Yoga-1.jpg
END:VEVENT
BEGIN:VEVENT
DTSTART;TZID=America/Vancouver:20241127T110000
DTEND;TZID=America/Vancouver:20241127T120000
DTSTAMP:20260422T152941
CREATED:20240910T003353Z
LAST-MODIFIED:20241114T174905Z
UID:18077-1732705200-1732708800@danishchurch.vancouver.bc.ca
SUMMARY:Wed - Yoga
DESCRIPTION:
URL:https://danishchurch.vancouver.bc.ca/event/yoga-30/
CATEGORIES:CFC,Weekly
ATTACH;FMTTYPE=image/jpeg:https://danishchurch.vancouver.bc.ca/wp-content/uploads/Yoga-1.jpg
END:VEVENT
BEGIN:VEVENT
DTSTART;TZID=America/Vancouver:20241127T170000
DTEND;TZID=America/Vancouver:20241127T180000
DTSTAMP:20260422T152941
CREATED:20240910T002947Z
LAST-MODIFIED:20241114T174832Z
UID:18065-1732726800-1732730400@danishchurch.vancouver.bc.ca
SUMMARY:Wed - Yoga
DESCRIPTION:
URL:https://danishchurch.vancouver.bc.ca/event/yoga-20/
LOCATION:Church Hall\, 6010 Kincaid Street\, Burnaby\, BC\, V5G 4N3\, Canada
CATEGORIES:CFC,Weekly
ATTACH;FMTTYPE=image/png:https://danishchurch.vancouver.bc.ca/wp-content/uploads/Yoga-2.png
ORGANIZER;CN="Camilla Ejsing":MAILTO:camilla@danishchurch.vancouver.bc.ca
END:VEVENT
BEGIN:VEVENT
DTSTART;TZID=America/Vancouver:20250215T130000
DTEND;TZID=America/Vancouver:20250215T160000
DTSTAMP:20260422T152941
CREATED:20241216T184633Z
LAST-MODIFIED:20241216T190438Z
UID:18387-1739624400-1739635200@danishchurch.vancouver.bc.ca
SUMMARY:Sat - Family Day (with storytelling and games)
DESCRIPTION:If you are interested in learning more\, please contact Camilla our Cultural Family Coordinator: camilla@danishchurch.vancouver.bc.ca
URL:https://danishchurch.vancouver.bc.ca/event/sat-family-day-with-storytelling-and-games/
CATEGORIES:CFC
ATTACH;FMTTYPE=image/jpeg:https://danishchurch.vancouver.bc.ca/wp-content/uploads/Family-Day-2025-02-15.jpg
END:VEVENT
BEGIN:VEVENT
DTSTART;TZID=America/Vancouver:20250228T190000
DTEND;TZID=America/Vancouver:20250228T203000
DTSTAMP:20260422T152941
CREATED:20241217T181217Z
LAST-MODIFIED:20241226T042304Z
UID:18433-1740769200-1740774600@danishchurch.vancouver.bc.ca
SUMMARY:Fri - College and Career – Climbing
DESCRIPTION:Our group for young adults – now called “College and Career” – has had steady growth. We are almost too many to fit into the parsonage! For the meeting in February\, we will therefore try to meet somewhere else – at a climbing gym. \nThe event will take place on Friday\, February 28\, 2025 @ 7 PM. Please let Camilla know if you plan to attend: \ncamilla@danishchurch.vancouver.bc.ca
URL:https://danishchurch.vancouver.bc.ca/event/fri-college-and-career-climbing/
CATEGORIES:CFC
ATTACH;FMTTYPE=image/jpeg:https://danishchurch.vancouver.bc.ca/wp-content/uploads/College-Career-Climbing-2025-02-28.jpg
END:VEVENT
END:VCALENDAR