BEGIN:VCALENDAR
VERSION:2.0
PRODID:-//The Danish Lutheran Church of Vancouver, B.C. - ECPv6.15.20//NONSGML v1.0//EN
CALSCALE:GREGORIAN
METHOD:PUBLISH
X-WR-CALNAME:The Danish Lutheran Church of Vancouver, B.C.
X-ORIGINAL-URL:https://danishchurch.vancouver.bc.ca
X-WR-CALDESC:Events for The Danish Lutheran Church of Vancouver, B.C.
REFRESH-INTERVAL;VALUE=DURATION:PT1H
X-Robots-Tag:noindex
X-PUBLISHED-TTL:PT1H
BEGIN:VTIMEZONE
TZID:America/Vancouver
BEGIN:DAYLIGHT
TZOFFSETFROM:-0800
TZOFFSETTO:-0700
TZNAME:PDT
DTSTART:20240310T100000
END:DAYLIGHT
BEGIN:STANDARD
TZOFFSETFROM:-0700
TZOFFSETTO:-0800
TZNAME:PST
DTSTART:20241103T090000
END:STANDARD
BEGIN:DAYLIGHT
TZOFFSETFROM:-0800
TZOFFSETTO:-0700
TZNAME:PDT
DTSTART:20250309T100000
END:DAYLIGHT
BEGIN:STANDARD
TZOFFSETFROM:-0700
TZOFFSETTO:-0800
TZNAME:PST
DTSTART:20251102T090000
END:STANDARD
BEGIN:DAYLIGHT
TZOFFSETFROM:-0800
TZOFFSETTO:-0700
TZNAME:PDT
DTSTART:20260308T100000
END:DAYLIGHT
BEGIN:STANDARD
TZOFFSETFROM:-0700
TZOFFSETTO:-0800
TZNAME:PST
DTSTART:20261101T090000
END:STANDARD
END:VTIMEZONE
BEGIN:VEVENT
DTSTART;TZID=America/Vancouver:20251002T093000
DTEND;TZID=America/Vancouver:20251002T110000
DTSTAMP:20260423T071305
CREATED:20250513T025352Z
LAST-MODIFIED:20250513T025352Z
UID:19031-1759397400-1759402800@danishchurch.vancouver.bc.ca
SUMMARY:Bible Study
DESCRIPTION:
URL:https://danishchurch.vancouver.bc.ca/event/bible-study-64/
CATEGORIES:Weekly
END:VEVENT
BEGIN:VEVENT
DTSTART;TZID=America/Vancouver:20251009T093000
DTEND;TZID=America/Vancouver:20251009T110000
DTSTAMP:20260423T071305
CREATED:20250513T025357Z
LAST-MODIFIED:20251004T013759Z
UID:19032-1760002200-1760007600@danishchurch.vancouver.bc.ca
SUMMARY:Bible Study
DESCRIPTION:
URL:https://danishchurch.vancouver.bc.ca/event/bible-study-65/
CATEGORIES:Weekly
ATTACH;FMTTYPE=image/jpeg:https://danishchurch.vancouver.bc.ca/wp-content/uploads/Bible-Study.jpg
END:VEVENT
BEGIN:VEVENT
DTSTART;TZID=America/Vancouver:20251016T093000
DTEND;TZID=America/Vancouver:20251016T110000
DTSTAMP:20260423T071305
CREATED:20250513T025357Z
LAST-MODIFIED:20251008T202124Z
UID:19033-1760607000-1760612400@danishchurch.vancouver.bc.ca
SUMMARY:Bible Study
DESCRIPTION:
URL:https://danishchurch.vancouver.bc.ca/event/bible-study-66/
CATEGORIES:Weekly
ATTACH;FMTTYPE=image/jpeg:https://danishchurch.vancouver.bc.ca/wp-content/uploads/Bible-Study.jpg
END:VEVENT
BEGIN:VEVENT
DTSTART;TZID=America/Vancouver:20251023T093000
DTEND;TZID=America/Vancouver:20251023T110000
DTSTAMP:20260423T071305
CREATED:20250513T025357Z
LAST-MODIFIED:20251008T205227Z
UID:19034-1761211800-1761217200@danishchurch.vancouver.bc.ca
SUMMARY:Bible Study
DESCRIPTION:
URL:https://danishchurch.vancouver.bc.ca/event/bible-study-67/
CATEGORIES:Weekly
ATTACH;FMTTYPE=image/jpeg:https://danishchurch.vancouver.bc.ca/wp-content/uploads/Bible-Study.jpg
END:VEVENT
BEGIN:VEVENT
DTSTART;TZID=America/Vancouver:20251030T093000
DTEND;TZID=America/Vancouver:20251030T110000
DTSTAMP:20260423T071305
CREATED:20250513T025358Z
LAST-MODIFIED:20251022T161053Z
UID:19035-1761816600-1761822000@danishchurch.vancouver.bc.ca
SUMMARY:Bible Study
DESCRIPTION:
URL:https://danishchurch.vancouver.bc.ca/event/bible-study-68/
CATEGORIES:Weekly
ATTACH;FMTTYPE=image/jpeg:https://danishchurch.vancouver.bc.ca/wp-content/uploads/Bible-Study.jpg
END:VEVENT
END:VCALENDAR