BEGIN:VCALENDAR
VERSION:2.0
PRODID:-//The Danish Lutheran Church of Vancouver, B.C. - ECPv6.15.20//NONSGML v1.0//EN
CALSCALE:GREGORIAN
METHOD:PUBLISH
X-WR-CALNAME:The Danish Lutheran Church of Vancouver, B.C.
X-ORIGINAL-URL:https://danishchurch.vancouver.bc.ca
X-WR-CALDESC:Events for The Danish Lutheran Church of Vancouver, B.C.
REFRESH-INTERVAL;VALUE=DURATION:PT1H
X-Robots-Tag:noindex
X-PUBLISHED-TTL:PT1H
BEGIN:VTIMEZONE
TZID:America/Vancouver
BEGIN:DAYLIGHT
TZOFFSETFROM:-0800
TZOFFSETTO:-0700
TZNAME:PDT
DTSTART:20230312T100000
END:DAYLIGHT
BEGIN:STANDARD
TZOFFSETFROM:-0700
TZOFFSETTO:-0800
TZNAME:PST
DTSTART:20231105T090000
END:STANDARD
BEGIN:DAYLIGHT
TZOFFSETFROM:-0800
TZOFFSETTO:-0700
TZNAME:PDT
DTSTART:20240310T100000
END:DAYLIGHT
BEGIN:STANDARD
TZOFFSETFROM:-0700
TZOFFSETTO:-0800
TZNAME:PST
DTSTART:20241103T090000
END:STANDARD
BEGIN:DAYLIGHT
TZOFFSETFROM:-0800
TZOFFSETTO:-0700
TZNAME:PDT
DTSTART:20250309T100000
END:DAYLIGHT
BEGIN:STANDARD
TZOFFSETFROM:-0700
TZOFFSETTO:-0800
TZNAME:PST
DTSTART:20251102T090000
END:STANDARD
END:VTIMEZONE
BEGIN:VEVENT
DTSTART;TZID=America/Vancouver:20240303T110000
DTEND;TZID=America/Vancouver:20240303T121500
DTSTAMP:20260419T203230
CREATED:20240210T230950Z
LAST-MODIFIED:20240210T230950Z
UID:17246-1709463600-1709468100@danishchurch.vancouver.bc.ca
SUMMARY:3. søndag i fasten
DESCRIPTION:Gudstjeneste på dansk ved pastor Carsten Mølgaard Hansen. \n\nAnden Mosebog\, 32:7–10\, 30–32\n Johannes’ Åbenbaring\, 2:1–7\n Johannes-Evangeliet\, 8:42–51
URL:https://danishchurch.vancouver.bc.ca/event/3-sondag-i-fasten/
CATEGORIES:Service
ATTACH;FMTTYPE=image/png:https://danishchurch.vancouver.bc.ca/wp-content/uploads/0-3Lent.png
END:VEVENT
BEGIN:VEVENT
DTSTART;TZID=America/Vancouver:20240229T093000
DTEND;TZID=America/Vancouver:20240229T110000
DTSTAMP:20260419T203230
CREATED:20231222T192917Z
LAST-MODIFIED:20240122T163320Z
UID:16634-1709199000-1709204400@danishchurch.vancouver.bc.ca
SUMMARY:Bible Study
DESCRIPTION:In the Library – or request a Zoom link.
URL:https://danishchurch.vancouver.bc.ca/event/bible-study-18/
CATEGORIES:Weekly
END:VEVENT
BEGIN:VEVENT
DTSTART;TZID=America/Vancouver:20240228T173000
DTEND;TZID=America/Vancouver:20240228T183000
DTSTAMP:20260419T203230
CREATED:20240109T181400Z
LAST-MODIFIED:20240122T163320Z
UID:16859-1709141400-1709145000@danishchurch.vancouver.bc.ca
SUMMARY:Yoga
DESCRIPTION:
URL:https://danishchurch.vancouver.bc.ca/event/yoga-2/
CATEGORIES:CFC
ATTACH;FMTTYPE=image/jpeg:https://danishchurch.vancouver.bc.ca/wp-content/uploads/Yoga-1.jpg
END:VEVENT
BEGIN:VEVENT
DTSTART;TZID=America/Vancouver:20240228T110000
DTEND;TZID=America/Vancouver:20240228T120000
DTSTAMP:20260419T203230
CREATED:20240109T181545Z
LAST-MODIFIED:20240221T182820Z
UID:16863-1709118000-1709121600@danishchurch.vancouver.bc.ca
SUMMARY:Dania Home Service
DESCRIPTION:
URL:https://danishchurch.vancouver.bc.ca/event/dania-home-service-5/
CATEGORIES:Service
ATTACH;FMTTYPE=image/jpeg:https://danishchurch.vancouver.bc.ca/wp-content/uploads/paskeblomst-by-dolmen-e1704677633802.jpg
END:VEVENT
BEGIN:VEVENT
DTSTART;TZID=America/Vancouver:20240228T110000
DTEND;TZID=America/Vancouver:20240228T120000
DTSTAMP:20260419T203230
CREATED:20240109T181449Z
LAST-MODIFIED:20240122T163320Z
UID:16861-1709118000-1709121600@danishchurch.vancouver.bc.ca
SUMMARY:Yoga
DESCRIPTION:
URL:https://danishchurch.vancouver.bc.ca/event/yoga-3/
CATEGORIES:CFC
ATTACH;FMTTYPE=image/jpeg:https://danishchurch.vancouver.bc.ca/wp-content/uploads/Yoga-1.jpg
END:VEVENT
BEGIN:VEVENT
DTSTART;TZID=America/Vancouver:20240226T103000
DTEND;TZID=America/Vancouver:20240226T113000
DTSTAMP:20260419T203230
CREATED:20240109T181246Z
LAST-MODIFIED:20240122T163320Z
UID:16857-1708943400-1708947000@danishchurch.vancouver.bc.ca
SUMMARY:Swedish/Canadian Rest Home
DESCRIPTION:
URL:https://danishchurch.vancouver.bc.ca/event/swedish-canadian-rest-home/
ATTACH;FMTTYPE=image/jpeg:https://danishchurch.vancouver.bc.ca/wp-content/uploads/OMD10004-scaled-U1cEiY.tmp_.jpg
END:VEVENT
BEGIN:VEVENT
DTSTART;TZID=America/Vancouver:20240225T130000
DTEND;TZID=America/Vancouver:20240225T150000
DTSTAMP:20260419T203230
CREATED:20240216T183311Z
LAST-MODIFIED:20240221T175601Z
UID:17302-1708866000-1708873200@danishchurch.vancouver.bc.ca
SUMMARY:Calling All Movie Lovers
DESCRIPTION:Calling all movie lovers     \nJoin us on the February 25 2024 at 2 PM where we will get ready to the Oscar Award Show by watching the Danish movie ‘The Promised Land’ together in the church. \nThe movie has been shortlisted in the category Best International Feature Film\, is made by Nicolai Arcel (the person behind ‘A Royal Affair’)\, and is featuring Mads Mikkelsen in the lead role  \nThe movie is in Danish/German\, and it will be shown with English subtitles. Before watching the movie there will be a short introduction. \nWe look forward to seeing you. 
URL:https://danishchurch.vancouver.bc.ca/event/calling-all-movie-lovers/
END:VEVENT
BEGIN:VEVENT
DTSTART;TZID=America/Vancouver:20240225T110000
DTEND;TZID=America/Vancouver:20240225T121500
DTSTAMP:20260419T203230
CREATED:20231220T193250Z
LAST-MODIFIED:20240122T163320Z
UID:16592-1708858800-1708863300@danishchurch.vancouver.bc.ca
SUMMARY:2nd Sunday in Lent
DESCRIPTION:Service in English by Pastor Carsten Mølgaard Hansen. \n\nGenesis 1:27–31\n Hebrews 5:1–10\n Mark 9:14–29
URL:https://danishchurch.vancouver.bc.ca/event/2nd-sunday-in-lent/
CATEGORIES:Service
ATTACH;FMTTYPE=image/png:https://danishchurch.vancouver.bc.ca/wp-content/uploads/0-2Lent.png
END:VEVENT
BEGIN:VEVENT
DTSTART;TZID=America/Vancouver:20240222T190000
DTEND;TZID=America/Vancouver:20240222T210000
DTSTAMP:20260419T203230
CREATED:20240103T223010Z
LAST-MODIFIED:20240122T164142Z
UID:16730-1708628400-1708635600@danishchurch.vancouver.bc.ca
SUMMARY:ABBA Sing Along
DESCRIPTION:We are pleased to announce that our next Sing Along service will take place on the February 22 at 7 PM and will feature songs be the famous Swedish group ABBA. \nIf you missed our first Sing Along\, make sure not to miss this one as the church – once again – will be decorated in all the colours of the rainbow.\nDuring the Sing Along service the pastor will relate the ABBA songs we sing to the Gospel. Following the service drinks and snacks will be served in the downstairs church hall. \nAdmission is by free-will donation.
URL:https://danishchurch.vancouver.bc.ca/event/abba-sing-along/
CATEGORIES:Concert
ATTACH;FMTTYPE=image/jpeg:https://danishchurch.vancouver.bc.ca/wp-content/uploads/Night-Church-1-scaled-1.jpeg
END:VEVENT
BEGIN:VEVENT
DTSTART;TZID=America/Vancouver:20240222T163000
DTEND;TZID=America/Vancouver:20240222T173000
DTSTAMP:20260419T203230
CREATED:20240109T181059Z
LAST-MODIFIED:20240122T163320Z
UID:16855-1708619400-1708623000@danishchurch.vancouver.bc.ca
SUMMARY:Mini Confirmation
DESCRIPTION:
URL:https://danishchurch.vancouver.bc.ca/event/mini-confirmation-7/
CATEGORIES:CFC
ATTACH;FMTTYPE=image/jpeg:https://danishchurch.vancouver.bc.ca/wp-content/uploads/Mini-Confirmation-1.jpg
END:VEVENT
BEGIN:VEVENT
DTSTART;TZID=America/Vancouver:20240222T093000
DTEND;TZID=America/Vancouver:20240222T110000
DTSTAMP:20260419T203230
CREATED:20231222T192820Z
LAST-MODIFIED:20240122T163320Z
UID:16632-1708594200-1708599600@danishchurch.vancouver.bc.ca
SUMMARY:Bible Study
DESCRIPTION:In the Library – or request a Zoom link.
URL:https://danishchurch.vancouver.bc.ca/event/bible-study-17/
CATEGORIES:Weekly
END:VEVENT
BEGIN:VEVENT
DTSTART;TZID=America/Vancouver:20240221T173000
DTEND;TZID=America/Vancouver:20240221T183000
DTSTAMP:20260419T203230
CREATED:20240109T180859Z
LAST-MODIFIED:20240122T163320Z
UID:16853-1708536600-1708540200@danishchurch.vancouver.bc.ca
SUMMARY:Yoga
DESCRIPTION:
URL:https://danishchurch.vancouver.bc.ca/event/yoga/
CATEGORIES:CFC
END:VEVENT
BEGIN:VEVENT
DTSTART;TZID=America/Vancouver:20240218T190000
DTEND;TZID=America/Vancouver:20240218T190000
DTSTAMP:20260419T203230
CREATED:20241126T015212Z
LAST-MODIFIED:20241126T015212Z
UID:18234-1708282800-1708282800@danishchurch.vancouver.bc.ca
SUMMARY:Board Meeting
DESCRIPTION:
URL:https://danishchurch.vancouver.bc.ca/event/board-meeting-15/
CATEGORIES:Monthly
END:VEVENT
BEGIN:VEVENT
DTSTART;TZID=America/Vancouver:20240218T110000
DTEND;TZID=America/Vancouver:20240218T121500
DTSTAMP:20260419T203230
CREATED:20231222T184256Z
LAST-MODIFIED:20240122T163320Z
UID:16616-1708254000-1708258500@danishchurch.vancouver.bc.ca
SUMMARY:1. søndag i fasten
DESCRIPTION:Gudstjeneste på dansk ved pastor Carsten Mølgaard Hansen. \n\nFørste Mosebog\, 4:1–12\n Jakobs Brev\, 1:9–16\n Lukas-Evangeliet\, 22:24–32
URL:https://danishchurch.vancouver.bc.ca/event/1-sondag-i-fasten/
CATEGORIES:Service
ATTACH;FMTTYPE=image/png:https://danishchurch.vancouver.bc.ca/wp-content/uploads/0-1Lent.png
END:VEVENT
BEGIN:VEVENT
DTSTART;TZID=America/Vancouver:20240215T093000
DTEND;TZID=America/Vancouver:20240215T110000
DTSTAMP:20260419T203230
CREATED:20231222T192731Z
LAST-MODIFIED:20240122T163320Z
UID:16630-1707989400-1707994800@danishchurch.vancouver.bc.ca
SUMMARY:Bible Study
DESCRIPTION:In the Library – or request a Zoom link.
URL:https://danishchurch.vancouver.bc.ca/event/bible-study-16/
CATEGORIES:Weekly
END:VEVENT
BEGIN:VEVENT
DTSTART;TZID=America/Vancouver:20240214T133000
DTEND;TZID=America/Vancouver:20240214T153000
DTSTAMP:20260419T203230
CREATED:20240108T194402Z
LAST-MODIFIED:20240226T173712Z
UID:16808-1707917400-1707924600@danishchurch.vancouver.bc.ca
SUMMARY:Kom-Sammen Eftermiddag
DESCRIPTION:
URL:https://danishchurch.vancouver.bc.ca/event/kom-sammen-eftermiddag-6/
CATEGORIES:Monthly
ATTACH;FMTTYPE=image/png:https://danishchurch.vancouver.bc.ca/wp-content/uploads/Screen-Shot-2022-06-08-at-2.54.11-PM-1.png
END:VEVENT
BEGIN:VEVENT
DTSTART;TZID=America/Vancouver:20240213T190000
DTEND;TZID=America/Vancouver:20240213T210000
DTSTAMP:20260419T203230
CREATED:20240109T180717Z
LAST-MODIFIED:20240122T163321Z
UID:16851-1707850800-1707858000@danishchurch.vancouver.bc.ca
SUMMARY:Board Meeting
DESCRIPTION:
URL:https://danishchurch.vancouver.bc.ca/event/board-meeting-6/
CATEGORIES:Board Meeting
ATTACH;FMTTYPE=image/jpeg:https://danishchurch.vancouver.bc.ca/wp-content/uploads/Robert-Taylor-President-1.jpg
END:VEVENT
BEGIN:VEVENT
DTSTART;TZID=America/Vancouver:20240211T110000
DTEND;TZID=America/Vancouver:20240211T121500
DTSTAMP:20260419T203230
CREATED:20231222T184254Z
LAST-MODIFIED:20240127T171509Z
UID:16615-1707649200-1707653700@danishchurch.vancouver.bc.ca
SUMMARY:Fastelavn Family Sunday
DESCRIPTION:Service in English by Pastor Carsten Mølgaard Hansen. Fastelavn Family Service with lunch. \n\nPsalms 31:1–5\n1st Corinthians 13\nLuke 18:31–43
URL:https://danishchurch.vancouver.bc.ca/event/fastelavn-sunday/
CATEGORIES:Service
ATTACH;FMTTYPE=image/jpeg:https://danishchurch.vancouver.bc.ca/wp-content/uploads/Fastelavn-2024-02-11-v3.jpg
END:VEVENT
BEGIN:VEVENT
DTSTART;TZID=America/Vancouver:20240210T193000
DTEND;TZID=America/Vancouver:20240210T220000
DTSTAMP:20260419T203230
CREATED:20240103T222552Z
LAST-MODIFIED:20240202T185819Z
UID:16728-1707593400-1707602400@danishchurch.vancouver.bc.ca
SUMMARY:Valentine's Dance
DESCRIPTION:Bring a loved one to the church on Saturday the 10th of February at 7.30pm where we will have a Valentine’s Concert and Dance featuring Linda Szentes and & Jazzlinks. \nFor the first 45 minutes we will enjoy a concert\, and after a short break the band will play dance-inviting music. Admission by free-will donation. \nValentine’s Dance 2024 Poster.
URL:https://danishchurch.vancouver.bc.ca/event/valentines-dance/
ATTACH;FMTTYPE=image/jpeg:https://danishchurch.vancouver.bc.ca/wp-content/uploads/20230211_195517-e1704677103767.jpg
END:VEVENT
BEGIN:VEVENT
DTSTART;TZID=America/Vancouver:20240208T093000
DTEND;TZID=America/Vancouver:20240208T110000
DTSTAMP:20260419T203230
CREATED:20231222T192634Z
LAST-MODIFIED:20240501T170132Z
UID:16628-1707384600-1707390000@danishchurch.vancouver.bc.ca
SUMMARY:Bible Study
DESCRIPTION:In the Library – or request a Zoom link.
URL:https://danishchurch.vancouver.bc.ca/event/bible-study-15/
CATEGORIES:Weekly
END:VEVENT
BEGIN:VEVENT
DTSTART;TZID=America/Vancouver:20240206T130000
DTEND;TZID=America/Vancouver:20240206T150000
DTSTAMP:20260419T203230
CREATED:20240109T174548Z
LAST-MODIFIED:20240109T175723Z
UID:16846-1707224400-1707231600@danishchurch.vancouver.bc.ca
SUMMARY:Knit2gether
DESCRIPTION:
URL:https://danishchurch.vancouver.bc.ca/event/knit2gether-3/
CATEGORIES:Monthly
ATTACH;FMTTYPE=image/jpeg:https://danishchurch.vancouver.bc.ca/wp-content/uploads/knit.jpg
END:VEVENT
BEGIN:VEVENT
DTSTART;TZID=America/Vancouver:20240204T110000
DTEND;TZID=America/Vancouver:20240204T121500
DTSTAMP:20260419T203230
CREATED:20231222T183945Z
LAST-MODIFIED:20231222T183945Z
UID:16612-1707044400-1707048900@danishchurch.vancouver.bc.ca
SUMMARY:Sexagesima Sunday
DESCRIPTION:Service in English by Pastor Clifford Reinhardt. \n\nIsaiah 45:5–12\n 1st Corinthians 1:18–21\, [22–25] or 2nd Timothy 3:10–17\n Mark 4:26–32
URL:https://danishchurch.vancouver.bc.ca/event/sexagesima-sunday/
CATEGORIES:Service
ATTACH;FMTTYPE=image/png:https://danishchurch.vancouver.bc.ca/wp-content/uploads/0-Sexagesima.png
END:VEVENT
BEGIN:VEVENT
DTSTART;TZID=America/Vancouver:20240203T110000
DTEND;TZID=America/Vancouver:20240203T140000
DTSTAMP:20260419T203230
CREATED:20240108T194141Z
LAST-MODIFIED:20240127T171416Z
UID:16806-1706958000-1706968800@danishchurch.vancouver.bc.ca
SUMMARY:Rummage Sale
DESCRIPTION:Make sure to bring the big bike (or car) to church when we have our annual Rummage Sale from 11 AM to 2 PM. \nYou never know what and how much you will find of used goods at good prices. \nIf you have something you would like to donate to the Rummage Sale\, please bring it to the church hall on Tues\, Wed or Thurs next week. Any questions\, please email anneorbaek45@shaw.ca.
URL:https://danishchurch.vancouver.bc.ca/event/rummage-sale/
ATTACH;FMTTYPE=image/jpeg:https://danishchurch.vancouver.bc.ca/wp-content/uploads/quarto.jpg
END:VEVENT
BEGIN:VEVENT
DTSTART;TZID=America/Vancouver:20240201T093000
DTEND;TZID=America/Vancouver:20240201T110000
DTSTAMP:20260419T203230
CREATED:20231222T192525Z
LAST-MODIFIED:20240108T005015Z
UID:16626-1706779800-1706785200@danishchurch.vancouver.bc.ca
SUMMARY:Bible Study
DESCRIPTION:In the Library – or request a Zoom link.
URL:https://danishchurch.vancouver.bc.ca/event/bible-study-14/
CATEGORIES:Weekly
END:VEVENT
BEGIN:VEVENT
DTSTART;TZID=America/Vancouver:20240128T110000
DTEND;TZID=America/Vancouver:20240128T121500
DTSTAMP:20260419T203230
CREATED:20231222T183944Z
LAST-MODIFIED:20240108T012919Z
UID:16611-1706439600-1706444100@danishchurch.vancouver.bc.ca
SUMMARY:Septuagesima Sunday
DESCRIPTION:Service in English by Pastor Clifford Reinhardt. \n\nJob 9:1–12\nActs 17:22–34\nMatthew 25:14–30
URL:https://danishchurch.vancouver.bc.ca/event/septuagesima-sunday/
CATEGORIES:Service
ATTACH;FMTTYPE=image/jpeg:https://danishchurch.vancouver.bc.ca/wp-content/uploads/20231117_182041-e1704677348460.jpg
END:VEVENT
BEGIN:VEVENT
DTSTART;TZID=America/Vancouver:20240125T093000
DTEND;TZID=America/Vancouver:20240125T110000
DTSTAMP:20260419T203230
CREATED:20231222T192421Z
LAST-MODIFIED:20240108T004636Z
UID:16624-1706175000-1706180400@danishchurch.vancouver.bc.ca
SUMMARY:Bible Study
DESCRIPTION:In the Library – or request a Zoom link.
URL:https://danishchurch.vancouver.bc.ca/event/bible-study-13/
CATEGORIES:Weekly
END:VEVENT
BEGIN:VEVENT
DTSTART;TZID=America/Vancouver:20240121T190000
DTEND;TZID=America/Vancouver:20240121T190000
DTSTAMP:20260419T203230
CREATED:20241126T015212Z
LAST-MODIFIED:20241126T015212Z
UID:18233-1705863600-1705863600@danishchurch.vancouver.bc.ca
SUMMARY:Board Meeting
DESCRIPTION:
URL:https://danishchurch.vancouver.bc.ca/event/board-meeting-14/
CATEGORIES:Monthly
END:VEVENT
BEGIN:VEVENT
DTSTART;TZID=America/Vancouver:20240121T133000
DTEND;TZID=America/Vancouver:20240121T153000
DTSTAMP:20260419T203230
CREATED:20240110T165152Z
LAST-MODIFIED:20240116T000407Z
UID:16885-1705843800-1705851000@danishchurch.vancouver.bc.ca
SUMMARY:Raoul Wallenberg Day
DESCRIPTION:Wartime Civil Courage in Scandinavia\nDuring World War Two\, in German-occupied Denmark and Norway\, dramatic events demanded that people exhibit Civil Courage to defy Nazi policies that threatened the human rights of their countrymen. \nGuest speakers:\nLocal researcher and author Tore Jørgensen\nNorman Gladstone\, volunteer leader of the Vancouver Holocaust Education Centre \nClick the link for further event details. \nRaoul Wallenberg Day 2024-01-21
URL:https://danishchurch.vancouver.bc.ca/event/raoul-wallenberg-day-2024-01-21/
LOCATION:Congregation Beth Israel\, 989 W 28 Ave (at Oak St)\, Vancouver\, BC\, Canada
END:VEVENT
BEGIN:VEVENT
DTSTART;TZID=America/Vancouver:20240121T110000
DTEND;TZID=America/Vancouver:20240121T121500
DTSTAMP:20260419T203230
CREATED:20231222T183942Z
LAST-MODIFIED:20231222T183942Z
UID:16610-1705834800-1705839300@danishchurch.vancouver.bc.ca
SUMMARY:Last Sunday after Epiphany
DESCRIPTION:Service in English by Pastor Clifford Reinhardt. \n\nIsaiah 2:2–5\n Colossians 1:25d–28\n John 12:23–33
URL:https://danishchurch.vancouver.bc.ca/event/last-sunday-after-epiphany/
CATEGORIES:Service
ATTACH;FMTTYPE=image/png:https://danishchurch.vancouver.bc.ca/wp-content/uploads/0-LastEpiphany.png
END:VEVENT
BEGIN:VEVENT
DTSTART;TZID=America/Vancouver:20240118T093000
DTEND;TZID=America/Vancouver:20240118T110000
DTSTAMP:20260419T203230
CREATED:20231222T192318Z
LAST-MODIFIED:20240108T005118Z
UID:16622-1705570200-1705575600@danishchurch.vancouver.bc.ca
SUMMARY:Bible Study
DESCRIPTION:In the Library – or request a Zoom link.
URL:https://danishchurch.vancouver.bc.ca/event/bible-study-12/
CATEGORIES:Weekly
END:VEVENT
END:VCALENDAR