BEGIN:VCALENDAR
VERSION:2.0
PRODID:-//The Danish Lutheran Church of Vancouver, B.C. - ECPv6.15.20//NONSGML v1.0//EN
CALSCALE:GREGORIAN
METHOD:PUBLISH
X-WR-CALNAME:The Danish Lutheran Church of Vancouver, B.C.
X-ORIGINAL-URL:https://danishchurch.vancouver.bc.ca
X-WR-CALDESC:Events for The Danish Lutheran Church of Vancouver, B.C.
REFRESH-INTERVAL;VALUE=DURATION:PT1H
X-Robots-Tag:noindex
X-PUBLISHED-TTL:PT1H
BEGIN:VTIMEZONE
TZID:America/Vancouver
BEGIN:DAYLIGHT
TZOFFSETFROM:-0800
TZOFFSETTO:-0700
TZNAME:PDT
DTSTART:20220313T100000
END:DAYLIGHT
BEGIN:STANDARD
TZOFFSETFROM:-0700
TZOFFSETTO:-0800
TZNAME:PST
DTSTART:20221106T090000
END:STANDARD
BEGIN:DAYLIGHT
TZOFFSETFROM:-0800
TZOFFSETTO:-0700
TZNAME:PDT
DTSTART:20230312T100000
END:DAYLIGHT
BEGIN:STANDARD
TZOFFSETFROM:-0700
TZOFFSETTO:-0800
TZNAME:PST
DTSTART:20231105T090000
END:STANDARD
BEGIN:DAYLIGHT
TZOFFSETFROM:-0800
TZOFFSETTO:-0700
TZNAME:PDT
DTSTART:20240310T100000
END:DAYLIGHT
BEGIN:STANDARD
TZOFFSETFROM:-0700
TZOFFSETTO:-0800
TZNAME:PST
DTSTART:20241103T090000
END:STANDARD
BEGIN:DAYLIGHT
TZOFFSETFROM:-0800
TZOFFSETTO:-0700
TZNAME:PDT
DTSTART:20250309T100000
END:DAYLIGHT
BEGIN:STANDARD
TZOFFSETFROM:-0700
TZOFFSETTO:-0800
TZNAME:PST
DTSTART:20251102T090000
END:STANDARD
END:VTIMEZONE
BEGIN:VEVENT
DTSTART;TZID=America/Vancouver:20240128T110000
DTEND;TZID=America/Vancouver:20240128T121500
DTSTAMP:20260419T231158
CREATED:20231222T183944Z
LAST-MODIFIED:20240108T012919Z
UID:16611-1706439600-1706444100@danishchurch.vancouver.bc.ca
SUMMARY:Septuagesima Sunday
DESCRIPTION:Service in English by Pastor Clifford Reinhardt. \n\nJob 9:1–12\nActs 17:22–34\nMatthew 25:14–30
URL:https://danishchurch.vancouver.bc.ca/event/septuagesima-sunday/
CATEGORIES:Service
ATTACH;FMTTYPE=image/jpeg:https://danishchurch.vancouver.bc.ca/wp-content/uploads/20231117_182041-e1704677348460.jpg
END:VEVENT
BEGIN:VEVENT
DTSTART;TZID=America/Vancouver:20240125T093000
DTEND;TZID=America/Vancouver:20240125T110000
DTSTAMP:20260419T231158
CREATED:20231222T192421Z
LAST-MODIFIED:20240108T004636Z
UID:16624-1706175000-1706180400@danishchurch.vancouver.bc.ca
SUMMARY:Bible Study
DESCRIPTION:In the Library – or request a Zoom link.
URL:https://danishchurch.vancouver.bc.ca/event/bible-study-13/
CATEGORIES:Weekly
END:VEVENT
BEGIN:VEVENT
DTSTART;TZID=America/Vancouver:20240121T190000
DTEND;TZID=America/Vancouver:20240121T190000
DTSTAMP:20260419T231158
CREATED:20241126T015212Z
LAST-MODIFIED:20241126T015212Z
UID:18233-1705863600-1705863600@danishchurch.vancouver.bc.ca
SUMMARY:Board Meeting
DESCRIPTION:
URL:https://danishchurch.vancouver.bc.ca/event/board-meeting-14/
CATEGORIES:Monthly
END:VEVENT
BEGIN:VEVENT
DTSTART;TZID=America/Vancouver:20240121T133000
DTEND;TZID=America/Vancouver:20240121T153000
DTSTAMP:20260419T231158
CREATED:20240110T165152Z
LAST-MODIFIED:20240116T000407Z
UID:16885-1705843800-1705851000@danishchurch.vancouver.bc.ca
SUMMARY:Raoul Wallenberg Day
DESCRIPTION:Wartime Civil Courage in Scandinavia\nDuring World War Two\, in German-occupied Denmark and Norway\, dramatic events demanded that people exhibit Civil Courage to defy Nazi policies that threatened the human rights of their countrymen. \nGuest speakers:\nLocal researcher and author Tore Jørgensen\nNorman Gladstone\, volunteer leader of the Vancouver Holocaust Education Centre \nClick the link for further event details. \nRaoul Wallenberg Day 2024-01-21
URL:https://danishchurch.vancouver.bc.ca/event/raoul-wallenberg-day-2024-01-21/
LOCATION:Congregation Beth Israel\, 989 W 28 Ave (at Oak St)\, Vancouver\, BC\, Canada
END:VEVENT
BEGIN:VEVENT
DTSTART;TZID=America/Vancouver:20240121T110000
DTEND;TZID=America/Vancouver:20240121T121500
DTSTAMP:20260419T231158
CREATED:20231222T183942Z
LAST-MODIFIED:20231222T183942Z
UID:16610-1705834800-1705839300@danishchurch.vancouver.bc.ca
SUMMARY:Last Sunday after Epiphany
DESCRIPTION:Service in English by Pastor Clifford Reinhardt. \n\nIsaiah 2:2–5\n Colossians 1:25d–28\n John 12:23–33
URL:https://danishchurch.vancouver.bc.ca/event/last-sunday-after-epiphany/
CATEGORIES:Service
ATTACH;FMTTYPE=image/png:https://danishchurch.vancouver.bc.ca/wp-content/uploads/0-LastEpiphany.png
END:VEVENT
BEGIN:VEVENT
DTSTART;TZID=America/Vancouver:20240118T093000
DTEND;TZID=America/Vancouver:20240118T110000
DTSTAMP:20260419T231158
CREATED:20231222T192318Z
LAST-MODIFIED:20240108T005118Z
UID:16622-1705570200-1705575600@danishchurch.vancouver.bc.ca
SUMMARY:Bible Study
DESCRIPTION:In the Library – or request a Zoom link.
URL:https://danishchurch.vancouver.bc.ca/event/bible-study-12/
CATEGORIES:Weekly
END:VEVENT
BEGIN:VEVENT
DTSTART;TZID=America/Vancouver:20240114T110000
DTEND;TZID=America/Vancouver:20240114T121500
DTSTAMP:20260419T231158
CREATED:20231222T183941Z
LAST-MODIFIED:20240116T002435Z
UID:16609-1705230000-1705234500@danishchurch.vancouver.bc.ca
SUMMARY:2nd Sunday after Epiphany
DESCRIPTION:Service in English by Pastor Clifford Reinhardt. Lunch will be available after the Service. \nRead Pastor’s Reinhardt’s sermon: Pastor’s Sermon for 2nd Sunday after Epiphany – The Danish Lutheran Church of Vancouver\, B.C. \n\n1st Kings 8:1\, 12–13\, 22–30 or Jeremiah 17:12–14\n1st John 2:28–3:3\nJohn 4:5–26
URL:https://danishchurch.vancouver.bc.ca/event/2nd-sunday-after-epiphany/
CATEGORIES:Service
ATTACH;FMTTYPE=image/png:https://danishchurch.vancouver.bc.ca/wp-content/uploads/0-2Epiphany.png
END:VEVENT
BEGIN:VEVENT
DTSTART;TZID=America/Vancouver:20240111T093000
DTEND;TZID=America/Vancouver:20240111T110000
DTSTAMP:20260419T231158
CREATED:20231222T192101Z
LAST-MODIFIED:20240108T004217Z
UID:16620-1704965400-1704970800@danishchurch.vancouver.bc.ca
SUMMARY:Bible Study
DESCRIPTION:In the Library – or request a Zoom link.
URL:https://danishchurch.vancouver.bc.ca/event/bible-study-11/
CATEGORIES:Weekly
END:VEVENT
BEGIN:VEVENT
DTSTART;TZID=America/Vancouver:20240110T133000
DTEND;TZID=America/Vancouver:20240110T150000
DTSTAMP:20260419T231158
CREATED:20240108T193629Z
LAST-MODIFIED:20240226T173113Z
UID:16804-1704893400-1704898800@danishchurch.vancouver.bc.ca
SUMMARY:Kom-Sammen Eftermiddag
DESCRIPTION:
URL:https://danishchurch.vancouver.bc.ca/event/kom-sammen-eftermiddag-5/
CATEGORIES:Monthly
ATTACH;FMTTYPE=image/jpeg:https://danishchurch.vancouver.bc.ca/wp-content/uploads/baked01.jpg
END:VEVENT
BEGIN:VEVENT
DTSTART;TZID=America/Vancouver:20240109T190000
DTEND;TZID=America/Vancouver:20240109T210000
DTSTAMP:20260419T231158
CREATED:20240108T193535Z
LAST-MODIFIED:20240109T184455Z
UID:16802-1704826800-1704834000@danishchurch.vancouver.bc.ca
SUMMARY:Board Meeting
DESCRIPTION:
URL:https://danishchurch.vancouver.bc.ca/event/board-meeting-5/
CATEGORIES:Board Meeting
ATTACH;FMTTYPE=image/jpeg:https://danishchurch.vancouver.bc.ca/wp-content/uploads/Robert-Taylor-President-1.jpg
END:VEVENT
BEGIN:VEVENT
DTSTART;TZID=America/Vancouver:20240107T110000
DTEND;TZID=America/Vancouver:20240107T121500
DTSTAMP:20260419T231158
CREATED:20231222T184253Z
LAST-MODIFIED:20240104T203600Z
UID:16614-1704625200-1704629700@danishchurch.vancouver.bc.ca
SUMMARY:1. søndag efter hellig­tre­konger
DESCRIPTION:Gudstjeneste på dansk ved pastor Carsten Mølgaard Hansen. \nOn Sunday we will also celebrate the Danish poet\, Jens Rosendal\, who passed on the December 30 2023. We will do this by singing three of his songs (one of them will be number 28). Beside Jens’ songs we will also sing hymn 674 and 449. \n\nSalmernes Bog\, 8\nPaulus’ Brev til Kolossenserne\, 1:15–19\nMarkus-Evangeliet\, 10:13–16
URL:https://danishchurch.vancouver.bc.ca/event/1-sondag-efter-helligtrekonger/
CATEGORIES:Service
ATTACH;FMTTYPE=image/png:https://danishchurch.vancouver.bc.ca/wp-content/uploads/0-1Epiphany.png
END:VEVENT
BEGIN:VEVENT
DTSTART;TZID=America/Vancouver:20240102T120000
DTEND;TZID=America/Vancouver:20240102T120000
DTSTAMP:20260419T231158
CREATED:20241226T034641Z
LAST-MODIFIED:20241226T034641Z
UID:18496-1704196800-1704196800@danishchurch.vancouver.bc.ca
SUMMARY:Ladies Auxiliary Meets
DESCRIPTION:
URL:https://danishchurch.vancouver.bc.ca/event/ladies-auxiliary-meets-6/
CATEGORIES:Monthly
END:VEVENT
BEGIN:VEVENT
DTSTART;TZID=America/Vancouver:20240101T150000
DTEND;TZID=America/Vancouver:20240101T161500
DTSTAMP:20260419T231158
CREATED:20230906T194748Z
LAST-MODIFIED:20231214T181503Z
UID:12925-1704121200-1704125700@danishchurch.vancouver.bc.ca
SUMMARY:New Year’s Day
DESCRIPTION:Service in English by Pastor Carsten Mølgaard Hansen. \n\nPsalms 90\nJames 4:13–17\nMatthew 6:5–13
URL:https://danishchurch.vancouver.bc.ca/event/new-years-day/
CATEGORIES:Service
ATTACH;FMTTYPE=image/png:https://danishchurch.vancouver.bc.ca/wp-content/uploads/0-NewYear.png
END:VEVENT
BEGIN:VEVENT
DTSTART;TZID=America/Vancouver:20231227T110000
DTEND;TZID=America/Vancouver:20231227T120000
DTSTAMP:20260419T231158
CREATED:20230909T011412Z
LAST-MODIFIED:20231214T181503Z
UID:13191-1703674800-1703678400@danishchurch.vancouver.bc.ca
SUMMARY:Dania Home Service
DESCRIPTION:English service at Dania Home
URL:https://danishchurch.vancouver.bc.ca/event/dania-home-service-4/
CATEGORIES:Service
END:VEVENT
BEGIN:VEVENT
DTSTART;TZID=America/Vancouver:20231225T110000
DTEND;TZID=America/Vancouver:20231225T121500
DTSTAMP:20260419T231158
CREATED:20230906T200322Z
LAST-MODIFIED:20231214T181503Z
UID:12944-1703502000-1703506500@danishchurch.vancouver.bc.ca
SUMMARY:Juledag
DESCRIPTION:Gudstjeneste på dansk ved pastor Carsten Mølgaard Hansen. \n\nFørste Mosebog\, 1:1–5 eller Esajas’ Bog\, 9:2–7b\n Johannes’ første Brev\, 4:7–11\n Johannes-Evangeliet\, 1:1–14
URL:https://danishchurch.vancouver.bc.ca/event/juledag/
CATEGORIES:Service
ATTACH;FMTTYPE=image/png:https://danishchurch.vancouver.bc.ca/wp-content/uploads/0-XmasDay.png
END:VEVENT
BEGIN:VEVENT
DTSTART;TZID=America/Vancouver:20231224T160000
DTEND;TZID=America/Vancouver:20231224T170000
DTSTAMP:20260419T231158
CREATED:20230906T203019Z
LAST-MODIFIED:20231214T181503Z
UID:12993-1703433600-1703437200@danishchurch.vancouver.bc.ca
SUMMARY:Christmas Eve
DESCRIPTION:Service in English by Pastor Carsten Mølgaard Hansen. \n\nIsaiah 9:2–7b\nLuke 2:1–14 or Matthew 1:18–25
URL:https://danishchurch.vancouver.bc.ca/event/christas-eve/
CATEGORIES:Service
ATTACH;FMTTYPE=image/png:https://danishchurch.vancouver.bc.ca/wp-content/uploads/0-XmasEve.png
END:VEVENT
BEGIN:VEVENT
DTSTART;TZID=America/Vancouver:20231224T143000
DTEND;TZID=America/Vancouver:20231224T153000
DTSTAMP:20260419T231158
CREATED:20230906T202321Z
LAST-MODIFIED:20231214T181503Z
UID:12987-1703428200-1703431800@danishchurch.vancouver.bc.ca
SUMMARY:Christmas Eve
DESCRIPTION:Service in English by Pastor Carsten Mølgaard Hansen. \n\nIsaiah 9:2–7b\nLuke 2:1–14 or Matthew 1:18–25
URL:https://danishchurch.vancouver.bc.ca/event/christmas-eve-2/
CATEGORIES:Service
ATTACH;FMTTYPE=image/png:https://danishchurch.vancouver.bc.ca/wp-content/uploads/1-XmasEve.png
END:VEVENT
BEGIN:VEVENT
DTSTART;TZID=America/Vancouver:20231221T100000
DTEND;TZID=America/Vancouver:20231221T110000
DTSTAMP:20260419T231158
CREATED:20230909T011411Z
LAST-MODIFIED:20231214T181503Z
UID:13190-1703152800-1703156400@danishchurch.vancouver.bc.ca
SUMMARY:Dania Manor Service
DESCRIPTION:Short english service at Dania Manor
URL:https://danishchurch.vancouver.bc.ca/event/dania-manor-service-4/
CATEGORIES:Service
END:VEVENT
BEGIN:VEVENT
DTSTART;TZID=America/Vancouver:20231219T110000
DTEND;TZID=America/Vancouver:20231219T150000
DTSTAMP:20260419T231158
CREATED:20230909T011410Z
LAST-MODIFIED:20231214T181503Z
UID:13188-1702983600-1702998000@danishchurch.vancouver.bc.ca
SUMMARY:Decorate Christmas Tree in Sactuary
DESCRIPTION:Help decorate the tree that sits in the Sactuary
URL:https://danishchurch.vancouver.bc.ca/event/decorate-christmas-tree-in-sactuary/
CATEGORIES:Volunteering
END:VEVENT
BEGIN:VEVENT
DTSTART;TZID=America/Vancouver:20231219T110000
DTEND;TZID=America/Vancouver:20231219T130000
DTSTAMP:20260419T231158
CREATED:20230909T011409Z
LAST-MODIFIED:20231214T181503Z
UID:13187-1702983600-1702990800@danishchurch.vancouver.bc.ca
SUMMARY:Baby/Toddler Group
DESCRIPTION:Parents (or parents to-be) can meet in the church to make connections and talk about being a parent to a new-born
URL:https://danishchurch.vancouver.bc.ca/event/baby-toddler-group-3/
CATEGORIES:CFC
END:VEVENT
BEGIN:VEVENT
DTSTART;TZID=America/Vancouver:20231217T110000
DTEND;TZID=America/Vancouver:20231217T121500
DTSTAMP:20260419T231158
CREATED:20230906T200318Z
LAST-MODIFIED:20231214T181503Z
UID:12943-1702810800-1702815300@danishchurch.vancouver.bc.ca
SUMMARY:3. søndag i advent
DESCRIPTION:Gudstjeneste på dansk ved pastor Carsten Mølgaard Hansen. \n\nEsajas’ Bog\, 40:1–8\n Paulus’ andet Brev til Korinterne\, 4:5–10\n Lukas-Evangeliet\, 1:67–80
URL:https://danishchurch.vancouver.bc.ca/event/3-sondag-i-advent/
CATEGORIES:Service
ATTACH;FMTTYPE=image/png:https://danishchurch.vancouver.bc.ca/wp-content/uploads/0-3Advent.png
END:VEVENT
BEGIN:VEVENT
DTSTART;TZID=America/Vancouver:20231214T190000
DTEND;TZID=America/Vancouver:20231214T200000
DTSTAMP:20260419T231158
CREATED:20230909T011408Z
LAST-MODIFIED:20231214T181503Z
UID:13185-1702580400-1702584000@danishchurch.vancouver.bc.ca
SUMMARY:All Auxiliary + Pastor Gathering
DESCRIPTION:Potluck in the church hall
URL:https://danishchurch.vancouver.bc.ca/event/all-auxiliary-pastor-gathering/
CATEGORIES:Auxiliary
ATTACH;FMTTYPE=image/jpeg:https://danishchurch.vancouver.bc.ca/wp-content/uploads/Photo-2023-05-13-7-04-15-PM-scaled-iGMhgw.tmp_.jpg
END:VEVENT
BEGIN:VEVENT
DTSTART;TZID=America/Vancouver:20231213T170000
DTEND;TZID=America/Vancouver:20231213T180000
DTSTAMP:20260419T231158
CREATED:20230909T011354Z
LAST-MODIFIED:20231214T181503Z
UID:13184-1702486800-1702490400@danishchurch.vancouver.bc.ca
SUMMARY:Yoga (hatha)
DESCRIPTION:Hatha yoga for all
URL:https://danishchurch.vancouver.bc.ca/event/yoga-hatha-11/
CATEGORIES:CFC
ATTACH;FMTTYPE=image/jpeg:https://danishchurch.vancouver.bc.ca/wp-content/uploads/Yoga-1.jpg
END:VEVENT
BEGIN:VEVENT
DTSTART;TZID=America/Vancouver:20231213T133000
DTEND;TZID=America/Vancouver:20231213T150000
DTSTAMP:20260419T231158
CREATED:20230909T011352Z
LAST-MODIFIED:20240226T173641Z
UID:13182-1702474200-1702479600@danishchurch.vancouver.bc.ca
SUMMARY:Kom-Sammen Eftermiddag
DESCRIPTION:Get together with the pastor in Danish
URL:https://danishchurch.vancouver.bc.ca/event/kom-sammen-eftermiddag-4/
CATEGORIES:Monthly
END:VEVENT
BEGIN:VEVENT
DTSTART;TZID=America/Vancouver:20231213T100000
DTEND;TZID=America/Vancouver:20231213T110000
DTSTAMP:20260419T231158
CREATED:20230909T011353Z
LAST-MODIFIED:20231214T181503Z
UID:13183-1702461600-1702465200@danishchurch.vancouver.bc.ca
SUMMARY:Yoga (sitting)
DESCRIPTION:Sitting yoga for seniors
URL:https://danishchurch.vancouver.bc.ca/event/yoga-sitting-12/
CATEGORIES:CFC
ATTACH;FMTTYPE=image/png:https://danishchurch.vancouver.bc.ca/wp-content/uploads/Yoga-2.png
END:VEVENT
BEGIN:VEVENT
DTSTART;TZID=America/Vancouver:20231212T190000
DTEND;TZID=America/Vancouver:20231212T210000
DTSTAMP:20260419T231158
CREATED:20230909T011352Z
LAST-MODIFIED:20231214T181503Z
UID:13181-1702407600-1702414800@danishchurch.vancouver.bc.ca
SUMMARY:Board Meeting
DESCRIPTION:Board meeting in the Library
URL:https://danishchurch.vancouver.bc.ca/event/board-meeting-4/
CATEGORIES:Planning
ATTACH;FMTTYPE=image/png:https://danishchurch.vancouver.bc.ca/wp-content/uploads/kirkelogo-circle-1-1.png
END:VEVENT
BEGIN:VEVENT
DTSTART;TZID=America/Vancouver:20231210T110000
DTEND;TZID=America/Vancouver:20231210T121500
DTSTAMP:20260419T231158
CREATED:20230906T194731Z
LAST-MODIFIED:20231214T181503Z
UID:12920-1702206000-1702210500@danishchurch.vancouver.bc.ca
SUMMARY:2nd Sunday of Advent
DESCRIPTION:Service in English by Pastor Carsten Mølgaard Hansen. \n\nIsaiah 11:1–10 or Malachi 3:1–3\n James 5:7–8\n Matthew 25:1–13
URL:https://danishchurch.vancouver.bc.ca/event/2nd-sunday-of-advent/
CATEGORIES:Service
ATTACH;FMTTYPE=image/png:https://danishchurch.vancouver.bc.ca/wp-content/uploads/0-2Advent.png
END:VEVENT
BEGIN:VEVENT
DTSTART;TZID=America/Vancouver:20231207T120000
DTEND;TZID=America/Vancouver:20231207T133000
DTSTAMP:20260419T231158
CREATED:20230909T011351Z
LAST-MODIFIED:20231214T181503Z
UID:13180-1701950400-1701955800@danishchurch.vancouver.bc.ca
SUMMARY:Ladies Auxiliary Meeting
DESCRIPTION:Meet in the church hall
URL:https://danishchurch.vancouver.bc.ca/event/ladies-auxiliary-meeting-4/
CATEGORIES:Planning
ATTACH;FMTTYPE=image/png:https://danishchurch.vancouver.bc.ca/wp-content/uploads/kirkelogo-circle-1.png
END:VEVENT
BEGIN:VEVENT
DTSTART;TZID=America/Vancouver:20231206T170000
DTEND;TZID=America/Vancouver:20231206T180000
DTSTAMP:20260419T231158
CREATED:20230909T011336Z
LAST-MODIFIED:20231214T181503Z
UID:13179-1701882000-1701885600@danishchurch.vancouver.bc.ca
SUMMARY:Yoga (hatha)
DESCRIPTION:Hatha yoga for all
URL:https://danishchurch.vancouver.bc.ca/event/yoga-hatha-10/
CATEGORIES:CFC
ATTACH;FMTTYPE=image/jpeg:https://danishchurch.vancouver.bc.ca/wp-content/uploads/Yoga-1.jpg
END:VEVENT
BEGIN:VEVENT
DTSTART;TZID=America/Vancouver:20231206T100000
DTEND;TZID=America/Vancouver:20231206T110000
DTSTAMP:20260419T231158
CREATED:20230909T011335Z
LAST-MODIFIED:20231214T181503Z
UID:13178-1701856800-1701860400@danishchurch.vancouver.bc.ca
SUMMARY:Yoga (sitting)
DESCRIPTION:Sitting yoga for seniors
URL:https://danishchurch.vancouver.bc.ca/event/yoga-sitting-11/
CATEGORIES:CFC
ATTACH;FMTTYPE=image/png:https://danishchurch.vancouver.bc.ca/wp-content/uploads/Yoga-2.png
END:VEVENT
END:VCALENDAR