BEGIN:VCALENDAR
VERSION:2.0
PRODID:-//The Danish Lutheran Church of Vancouver, B.C. - ECPv6.15.20//NONSGML v1.0//EN
CALSCALE:GREGORIAN
METHOD:PUBLISH
X-WR-CALNAME:The Danish Lutheran Church of Vancouver, B.C.
X-ORIGINAL-URL:https://danishchurch.vancouver.bc.ca
X-WR-CALDESC:Events for The Danish Lutheran Church of Vancouver, B.C.
REFRESH-INTERVAL;VALUE=DURATION:PT1H
X-Robots-Tag:noindex
X-PUBLISHED-TTL:PT1H
BEGIN:VTIMEZONE
TZID:America/Vancouver
BEGIN:DAYLIGHT
TZOFFSETFROM:-0800
TZOFFSETTO:-0700
TZNAME:PDT
DTSTART:20220313T100000
END:DAYLIGHT
BEGIN:STANDARD
TZOFFSETFROM:-0700
TZOFFSETTO:-0800
TZNAME:PST
DTSTART:20221106T090000
END:STANDARD
BEGIN:DAYLIGHT
TZOFFSETFROM:-0800
TZOFFSETTO:-0700
TZNAME:PDT
DTSTART:20230312T100000
END:DAYLIGHT
BEGIN:STANDARD
TZOFFSETFROM:-0700
TZOFFSETTO:-0800
TZNAME:PST
DTSTART:20231105T090000
END:STANDARD
BEGIN:DAYLIGHT
TZOFFSETFROM:-0800
TZOFFSETTO:-0700
TZNAME:PDT
DTSTART:20240310T100000
END:DAYLIGHT
BEGIN:STANDARD
TZOFFSETFROM:-0700
TZOFFSETTO:-0800
TZNAME:PST
DTSTART:20241103T090000
END:STANDARD
END:VTIMEZONE
BEGIN:VEVENT
DTSTART;TZID=America/Vancouver:20231123T170000
DTEND;TZID=America/Vancouver:20231123T190000
DTSTAMP:20260420T020216
CREATED:20230909T011316Z
LAST-MODIFIED:20230909T011316Z
UID:13172-1700758800-1700766000@danishchurch.vancouver.bc.ca
SUMMARY:Youth Club
DESCRIPTION:Youth Club events for teens
URL:https://danishchurch.vancouver.bc.ca/event/youth-club-3/
CATEGORIES:CFC
ATTACH;FMTTYPE=image/jpeg:https://danishchurch.vancouver.bc.ca/wp-content/uploads/Youth-Club-1.jpeg
END:VEVENT
BEGIN:VEVENT
DTSTART;TZID=America/Vancouver:20231123T093000
DTEND;TZID=America/Vancouver:20231123T110000
DTSTAMP:20260420T020216
CREATED:20230802T210433Z
LAST-MODIFIED:20230802T210433Z
UID:12869-1700731800-1700737200@danishchurch.vancouver.bc.ca
SUMMARY:Bible Study
DESCRIPTION:Bible study in the Library and on Zoom.  If you would like the Zoom link\, please contact Mogens Lemvig Hansen
URL:https://danishchurch.vancouver.bc.ca/event/bible-study-9/
CATEGORIES:Weekly
END:VEVENT
BEGIN:VEVENT
DTSTART;TZID=America/Vancouver:20231122T170000
DTEND;TZID=America/Vancouver:20231122T180000
DTSTAMP:20260420T020216
CREATED:20230909T011316Z
LAST-MODIFIED:20230909T011316Z
UID:13171-1700672400-1700676000@danishchurch.vancouver.bc.ca
SUMMARY:Yoga (hatha)
DESCRIPTION:Hatha yoga for all
URL:https://danishchurch.vancouver.bc.ca/event/yoga-hatha-8/
CATEGORIES:CFC
ATTACH;FMTTYPE=image/jpeg:https://danishchurch.vancouver.bc.ca/wp-content/uploads/Yoga-1.jpg
END:VEVENT
BEGIN:VEVENT
DTSTART;TZID=America/Vancouver:20231122T100000
DTEND;TZID=America/Vancouver:20231122T110000
DTSTAMP:20260420T020216
CREATED:20230909T011315Z
LAST-MODIFIED:20230909T011315Z
UID:13170-1700647200-1700650800@danishchurch.vancouver.bc.ca
SUMMARY:Yoga (sitting)
DESCRIPTION:Sitting yoga for seniors
URL:https://danishchurch.vancouver.bc.ca/event/yoga-sitting-9/
CATEGORIES:CFC
ATTACH;FMTTYPE=image/png:https://danishchurch.vancouver.bc.ca/wp-content/uploads/Yoga-2.png
END:VEVENT
BEGIN:VEVENT
DTSTART;TZID=America/Vancouver:20231121T110000
DTEND;TZID=America/Vancouver:20231121T130000
DTSTAMP:20260420T020216
CREATED:20230909T011300Z
LAST-MODIFIED:20230909T011300Z
UID:13169-1700564400-1700571600@danishchurch.vancouver.bc.ca
SUMMARY:Baby/Toddler Group
DESCRIPTION:Parents (or parents to-be) can meet in the church to make connections and talk about being a parent to a new-born
URL:https://danishchurch.vancouver.bc.ca/event/baby-toddler-group-2/
CATEGORIES:CFC
END:VEVENT
BEGIN:VEVENT
DTSTART;TZID=America/Vancouver:20231119T110000
DTEND;TZID=America/Vancouver:20231119T121500
DTSTAMP:20260420T020216
CREATED:20230906T200313Z
LAST-MODIFIED:20230906T200313Z
UID:12941-1700391600-1700396100@danishchurch.vancouver.bc.ca
SUMMARY:24. søndag efter trinitatis
DESCRIPTION:Gudstjeneste på dansk ved pastor Carsten Mølgaard Hansen. \n\nDaniels Bog\, 7:9–10\, 13–14 eller Ezekiels Bog\, 37:1–14\n Paulus’ Brev til Kolossenserne\, 1:9b–14\n Mattæus-Evangeliet\, 9:18–26
URL:https://danishchurch.vancouver.bc.ca/event/24-sondag-efter-trinitatis/
CATEGORIES:Service
ATTACH;FMTTYPE=image/png:https://danishchurch.vancouver.bc.ca/wp-content/uploads/1-24Trinity.png
END:VEVENT
BEGIN:VEVENT
DTSTART;TZID=America/Vancouver:20231117T190000
DTEND;TZID=America/Vancouver:20231117T210000
DTSTAMP:20260420T020216
CREATED:20230909T011259Z
LAST-MODIFIED:20230909T011259Z
UID:13167-1700247600-1700254800@danishchurch.vancouver.bc.ca
SUMMARY:Night Church
DESCRIPTION:Night Church is an event where the church will be open for a couple of hours during the evening. People are invited to drop in as they please. During these hours various activities will take place. Solemn music and lighting will help create a unique atmosphere and people will be able to mingle with coffee\, tea\, etc. A major activity is planned for the middle of the service. This could be a sing along service\, TaizŽ (a contemplative musical service developed in a French monastery)\, a poetic reading\, a concert\, etc. The pastor will attend to give the blessing and to talk with people.
URL:https://danishchurch.vancouver.bc.ca/event/night-church/
CATEGORIES:Service
ATTACH;FMTTYPE=image/jpeg:https://danishchurch.vancouver.bc.ca/wp-content/uploads/OMD10004-scaled-U1cEiY.tmp_.jpg
END:VEVENT
BEGIN:VEVENT
DTSTART;TZID=America/Vancouver:20231116T160000
DTEND;TZID=America/Vancouver:20231116T170000
DTSTAMP:20260420T020216
CREATED:20230909T011258Z
LAST-MODIFIED:20230909T011258Z
UID:13166-1700150400-1700154000@danishchurch.vancouver.bc.ca
SUMMARY:Mini Confirmation
DESCRIPTION:Classes for children ages 2-12
URL:https://danishchurch.vancouver.bc.ca/event/mini-confirmation-5/
CATEGORIES:CFC
ATTACH;FMTTYPE=image/jpeg:https://danishchurch.vancouver.bc.ca/wp-content/uploads/Photo-2023-04-02-12-13-53-PM-scaled-bLRlCl.tmp_.jpg
END:VEVENT
BEGIN:VEVENT
DTSTART;TZID=America/Vancouver:20231116T100000
DTEND;TZID=America/Vancouver:20231116T110000
DTSTAMP:20260420T020216
CREATED:20230909T011258Z
LAST-MODIFIED:20230909T011258Z
UID:13165-1700128800-1700132400@danishchurch.vancouver.bc.ca
SUMMARY:Dania Manor Service
DESCRIPTION:Short english service at Dania Manor
URL:https://danishchurch.vancouver.bc.ca/event/dania-manor-service-3/
CATEGORIES:Service
END:VEVENT
BEGIN:VEVENT
DTSTART;TZID=America/Vancouver:20231116T093000
DTEND;TZID=America/Vancouver:20231116T110000
DTSTAMP:20260420T020216
CREATED:20230802T210433Z
LAST-MODIFIED:20230802T210433Z
UID:12868-1700127000-1700132400@danishchurch.vancouver.bc.ca
SUMMARY:Bible Study
DESCRIPTION:Bible study in the Library and on Zoom.  If you would like the Zoom link\, please contact Mogens Lemvig Hansen
URL:https://danishchurch.vancouver.bc.ca/event/bible-study-8/
CATEGORIES:Weekly
END:VEVENT
BEGIN:VEVENT
DTSTART;TZID=America/Vancouver:20231115T170000
DTEND;TZID=America/Vancouver:20231115T180000
DTSTAMP:20260420T020216
CREATED:20230909T011242Z
LAST-MODIFIED:20230909T011242Z
UID:13163-1700067600-1700071200@danishchurch.vancouver.bc.ca
SUMMARY:Yoga (hatha)
DESCRIPTION:Hatha yoga for all
URL:https://danishchurch.vancouver.bc.ca/event/yoga-hatha-7/
CATEGORIES:CFC
ATTACH;FMTTYPE=image/jpeg:https://danishchurch.vancouver.bc.ca/wp-content/uploads/Yoga-1.jpg
END:VEVENT
BEGIN:VEVENT
DTSTART;TZID=America/Vancouver:20231115T110000
DTEND;TZID=America/Vancouver:20231115T120000
DTSTAMP:20260420T020216
CREATED:20230909T011257Z
LAST-MODIFIED:20230909T011257Z
UID:13164-1700046000-1700049600@danishchurch.vancouver.bc.ca
SUMMARY:Dania Home Service
DESCRIPTION:English service at Dania Home
URL:https://danishchurch.vancouver.bc.ca/event/dania-home-service-3/
CATEGORIES:Service
END:VEVENT
BEGIN:VEVENT
DTSTART;TZID=America/Vancouver:20231115T100000
DTEND;TZID=America/Vancouver:20231115T110000
DTSTAMP:20260420T020216
CREATED:20230909T011241Z
LAST-MODIFIED:20230909T011241Z
UID:13162-1700042400-1700046000@danishchurch.vancouver.bc.ca
SUMMARY:Yoga (sitting)
DESCRIPTION:Sitting yoga for seniors
URL:https://danishchurch.vancouver.bc.ca/event/yoga-sitting-8/
CATEGORIES:CFC
ATTACH;FMTTYPE=image/png:https://danishchurch.vancouver.bc.ca/wp-content/uploads/Yoga-2.png
END:VEVENT
BEGIN:VEVENT
DTSTART;TZID=America/Vancouver:20231114T190000
DTEND;TZID=America/Vancouver:20231114T210000
DTSTAMP:20260420T020216
CREATED:20230909T011241Z
LAST-MODIFIED:20230909T011241Z
UID:13161-1699988400-1699995600@danishchurch.vancouver.bc.ca
SUMMARY:Board Meeting
DESCRIPTION:Board meeting in the Library
URL:https://danishchurch.vancouver.bc.ca/event/board-meeting-3/
CATEGORIES:Planning
ATTACH;FMTTYPE=image/png:https://danishchurch.vancouver.bc.ca/wp-content/uploads/kirkelogo-circle-1-1.png
END:VEVENT
BEGIN:VEVENT
DTSTART;TZID=America/Vancouver:20231112T110000
DTEND;TZID=America/Vancouver:20231112T121500
DTSTAMP:20260420T020216
CREATED:20230906T194712Z
LAST-MODIFIED:20230906T194712Z
UID:12916-1699786800-1699791300@danishchurch.vancouver.bc.ca
SUMMARY:23rd Sunday after Trinity
DESCRIPTION:Service in English by Pastor Carsten Mølgaard Hansen. \n\nAmos 8:4–7\n Romans 13:1–7\n Matthew 22:15–22
URL:https://danishchurch.vancouver.bc.ca/event/23rd-sunday-after-trinity/
CATEGORIES:Service
ATTACH;FMTTYPE=image/png:https://danishchurch.vancouver.bc.ca/wp-content/uploads/1-23Trinity.png
END:VEVENT
BEGIN:VEVENT
DTSTART;TZID=America/Vancouver:20231111T110000
DTEND;TZID=America/Vancouver:20231111T120000
DTSTAMP:20260420T020216
CREATED:20230909T011240Z
LAST-MODIFIED:20230909T011240Z
UID:13159-1699700400-1699704000@danishchurch.vancouver.bc.ca
SUMMARY:Remembrance Day Dania Home
DESCRIPTION:Remembrance Day Service at Dania Home
URL:https://danishchurch.vancouver.bc.ca/event/remembrance-day-dania-home/
CATEGORIES:Service
ATTACH;FMTTYPE=image/jpeg:https://danishchurch.vancouver.bc.ca/wp-content/uploads/Photo-2023-05-07-10-49-49-AM-scaled-kyYGG4.tmp_.jpg
END:VEVENT
BEGIN:VEVENT
DTSTART;TZID=America/Vancouver:20231109T190000
DTEND;TZID=America/Vancouver:20231109T203000
DTSTAMP:20260420T020216
CREATED:20230909T011239Z
LAST-MODIFIED:20230909T011239Z
UID:13158-1699556400-1699561800@danishchurch.vancouver.bc.ca
SUMMARY:New Auxiliary Meeting
DESCRIPTION:Meet in the church hall
URL:https://danishchurch.vancouver.bc.ca/event/new-auxiliary-meeting-3/
CATEGORIES:Planning
ATTACH;FMTTYPE=image/jpeg:https://danishchurch.vancouver.bc.ca/wp-content/uploads/Photo-2023-05-13-7-04-22-PM-scaled-pNSQ8n.tmp_.jpg
END:VEVENT
BEGIN:VEVENT
DTSTART;TZID=America/Vancouver:20231109T093000
DTEND;TZID=America/Vancouver:20231109T110000
DTSTAMP:20260420T020216
CREATED:20230802T210433Z
LAST-MODIFIED:20230802T210433Z
UID:12867-1699522200-1699527600@danishchurch.vancouver.bc.ca
SUMMARY:Bible Study
DESCRIPTION:Bible study in the Library and on Zoom.  If you would like the Zoom link\, please contact Mogens Lemvig Hansen
URL:https://danishchurch.vancouver.bc.ca/event/bible-study-7/
CATEGORIES:Weekly
END:VEVENT
BEGIN:VEVENT
DTSTART;TZID=America/Vancouver:20231108T170000
DTEND;TZID=America/Vancouver:20231108T180000
DTSTAMP:20260420T020216
CREATED:20230909T011224Z
LAST-MODIFIED:20230909T011224Z
UID:13156-1699462800-1699466400@danishchurch.vancouver.bc.ca
SUMMARY:Yoga (hatha)
DESCRIPTION:Hatha yoga for all
URL:https://danishchurch.vancouver.bc.ca/event/yoga-hatha-6/
CATEGORIES:CFC
ATTACH;FMTTYPE=image/jpeg:https://danishchurch.vancouver.bc.ca/wp-content/uploads/Yoga-1.jpg
END:VEVENT
BEGIN:VEVENT
DTSTART;TZID=America/Vancouver:20231108T133000
DTEND;TZID=America/Vancouver:20231108T150000
DTSTAMP:20260420T020216
CREATED:20230909T011224Z
LAST-MODIFIED:20240226T173653Z
UID:13157-1699450200-1699455600@danishchurch.vancouver.bc.ca
SUMMARY:Kom-Sammen Eftermiddag
DESCRIPTION:Get together with the pastor in Danish
URL:https://danishchurch.vancouver.bc.ca/event/kom-sammen-eftermiddag-3/
CATEGORIES:Monthly
END:VEVENT
BEGIN:VEVENT
DTSTART;TZID=America/Vancouver:20231108T100000
DTEND;TZID=America/Vancouver:20231108T110000
DTSTAMP:20260420T020216
CREATED:20230909T011223Z
LAST-MODIFIED:20230909T011223Z
UID:13155-1699437600-1699441200@danishchurch.vancouver.bc.ca
SUMMARY:Yoga (sitting)
DESCRIPTION:Sitting yoga for seniors
URL:https://danishchurch.vancouver.bc.ca/event/yoga-sitting-7/
CATEGORIES:CFC
ATTACH;FMTTYPE=image/png:https://danishchurch.vancouver.bc.ca/wp-content/uploads/Yoga-2.png
END:VEVENT
BEGIN:VEVENT
DTSTART;TZID=America/Vancouver:20231107T130000
DTEND;TZID=America/Vancouver:20231107T150000
DTSTAMP:20260420T020216
CREATED:20230909T011222Z
LAST-MODIFIED:20230909T011222Z
UID:13153-1699362000-1699369200@danishchurch.vancouver.bc.ca
SUMMARY:Knit2gether
DESCRIPTION:Come and enjoy knitting together and sharing ideas
URL:https://danishchurch.vancouver.bc.ca/event/knit2gether/
CATEGORIES:Auxiliary
END:VEVENT
BEGIN:VEVENT
DTSTART;TZID=America/Vancouver:20231105T170000
DTEND;TZID=America/Vancouver:20231105T180000
DTSTAMP:20260420T020216
CREATED:20230906T202248Z
LAST-MODIFIED:20230906T202248Z
UID:12986-1699203600-1699207200@danishchurch.vancouver.bc.ca
SUMMARY:All Saints’ Sunday
DESCRIPTION:Service in English by Pastor Carsten Mølgaard Hansen. \n\nIsaiah 60:18–22\nRevelation 7:1–12\, [13–17]\nMatthew 5:1–12
URL:https://danishchurch.vancouver.bc.ca/event/all-saints-sunday-2/
CATEGORIES:Service
ATTACH;FMTTYPE=image/png:https://danishchurch.vancouver.bc.ca/wp-content/uploads/1-AllSaints.png
END:VEVENT
BEGIN:VEVENT
DTSTART;TZID=America/Vancouver:20231102T160000
DTEND;TZID=America/Vancouver:20231102T170000
DTSTAMP:20260420T020216
CREATED:20230909T011221Z
LAST-MODIFIED:20230909T011221Z
UID:13152-1698940800-1698944400@danishchurch.vancouver.bc.ca
SUMMARY:Mini Confirmation
DESCRIPTION:Classes for children ages 2-12
URL:https://danishchurch.vancouver.bc.ca/event/mini-confirmation-4/
CATEGORIES:CFC
ATTACH;FMTTYPE=image/jpeg:https://danishchurch.vancouver.bc.ca/wp-content/uploads/Photo-2023-04-02-12-13-53-PM-scaled-bLRlCl.tmp_.jpg
END:VEVENT
BEGIN:VEVENT
DTSTART;TZID=America/Vancouver:20231102T120000
DTEND;TZID=America/Vancouver:20231102T133000
DTSTAMP:20260420T020216
CREATED:20230909T011207Z
LAST-MODIFIED:20230909T011207Z
UID:13151-1698926400-1698931800@danishchurch.vancouver.bc.ca
SUMMARY:Ladies Auxiliary Meeting
DESCRIPTION:Meet in the church hall
URL:https://danishchurch.vancouver.bc.ca/event/ladies-auxiliary-meeting-3/
CATEGORIES:Planning
ATTACH;FMTTYPE=image/png:https://danishchurch.vancouver.bc.ca/wp-content/uploads/kirkelogo-circle-1.png
END:VEVENT
BEGIN:VEVENT
DTSTART;TZID=America/Vancouver:20231102T093000
DTEND;TZID=America/Vancouver:20231102T110000
DTSTAMP:20260420T020216
CREATED:20230802T210433Z
LAST-MODIFIED:20230802T210433Z
UID:12866-1698917400-1698922800@danishchurch.vancouver.bc.ca
SUMMARY:Cancelled: Bible Study
DESCRIPTION:Cancelled this week.
URL:https://danishchurch.vancouver.bc.ca/event/bible-study-6/
CATEGORIES:Weekly
END:VEVENT
BEGIN:VEVENT
DTSTART;TZID=America/Vancouver:20231101T170000
DTEND;TZID=America/Vancouver:20231101T180000
DTSTAMP:20260420T020216
CREATED:20230909T011206Z
LAST-MODIFIED:20230909T011206Z
UID:13150-1698858000-1698861600@danishchurch.vancouver.bc.ca
SUMMARY:Yoga (hatha)
DESCRIPTION:Hatha yoga for all
URL:https://danishchurch.vancouver.bc.ca/event/yoga-hatha-5/
CATEGORIES:CFC
ATTACH;FMTTYPE=image/jpeg:https://danishchurch.vancouver.bc.ca/wp-content/uploads/Yoga-1.jpg
END:VEVENT
BEGIN:VEVENT
DTSTART;TZID=America/Vancouver:20231101T100000
DTEND;TZID=America/Vancouver:20231101T110000
DTSTAMP:20260420T020216
CREATED:20230909T011205Z
LAST-MODIFIED:20230909T011205Z
UID:13149-1698832800-1698836400@danishchurch.vancouver.bc.ca
SUMMARY:Yoga (sitting)
DESCRIPTION:Sitting yoga for seniors
URL:https://danishchurch.vancouver.bc.ca/event/yoga-sitting-6/
CATEGORIES:CFC
ATTACH;FMTTYPE=image/png:https://danishchurch.vancouver.bc.ca/wp-content/uploads/Yoga-2.png
END:VEVENT
BEGIN:VEVENT
DTSTART;TZID=America/Vancouver:20231029T110000
DTEND;TZID=America/Vancouver:20231029T121500
DTSTAMP:20260420T020216
CREATED:20230906T194709Z
LAST-MODIFIED:20230906T194709Z
UID:12914-1698577200-1698581700@danishchurch.vancouver.bc.ca
SUMMARY:21st Sunday after Trinity
DESCRIPTION:Service in English by Pastor Carsten Mølgaard Hansen. \n\n2nd Kings 5:1–5\, 9–15 or Ezekiel 18:1–4a\nEphesians 6:10–17\nJohn 4:46–53
URL:https://danishchurch.vancouver.bc.ca/event/21st-sunday-after-trinity/
CATEGORIES:Service
ATTACH;FMTTYPE=image/png:https://danishchurch.vancouver.bc.ca/wp-content/uploads/1-21Trinity.png
END:VEVENT
BEGIN:VEVENT
DTSTART;TZID=America/Vancouver:20231028T110000
DTEND;TZID=America/Vancouver:20231028T140000
DTSTAMP:20260420T020216
CREATED:20230909T011204Z
LAST-MODIFIED:20230909T011204Z
UID:13148-1698490800-1698501600@danishchurch.vancouver.bc.ca
SUMMARY:Fall Bazaar
DESCRIPTION:Come and enjoy the food and crafts
URL:https://danishchurch.vancouver.bc.ca/event/fall-bazaar/
CATEGORIES:Volunteering
END:VEVENT
END:VCALENDAR