BEGIN:VCALENDAR
VERSION:2.0
PRODID:-//The Danish Lutheran Church of Vancouver, B.C. - ECPv6.15.20//NONSGML v1.0//EN
CALSCALE:GREGORIAN
METHOD:PUBLISH
X-WR-CALNAME:The Danish Lutheran Church of Vancouver, B.C.
X-ORIGINAL-URL:https://danishchurch.vancouver.bc.ca
X-WR-CALDESC:Events for The Danish Lutheran Church of Vancouver, B.C.
REFRESH-INTERVAL;VALUE=DURATION:PT1H
X-Robots-Tag:noindex
X-PUBLISHED-TTL:PT1H
BEGIN:VTIMEZONE
TZID:America/Vancouver
BEGIN:DAYLIGHT
TZOFFSETFROM:-0800
TZOFFSETTO:-0700
TZNAME:PDT
DTSTART:20220313T100000
END:DAYLIGHT
BEGIN:STANDARD
TZOFFSETFROM:-0700
TZOFFSETTO:-0800
TZNAME:PST
DTSTART:20221106T090000
END:STANDARD
BEGIN:DAYLIGHT
TZOFFSETFROM:-0800
TZOFFSETTO:-0700
TZNAME:PDT
DTSTART:20230312T100000
END:DAYLIGHT
BEGIN:STANDARD
TZOFFSETFROM:-0700
TZOFFSETTO:-0800
TZNAME:PST
DTSTART:20231105T090000
END:STANDARD
BEGIN:DAYLIGHT
TZOFFSETFROM:-0800
TZOFFSETTO:-0700
TZNAME:PDT
DTSTART:20240310T100000
END:DAYLIGHT
BEGIN:STANDARD
TZOFFSETFROM:-0700
TZOFFSETTO:-0800
TZNAME:PST
DTSTART:20241103T090000
END:STANDARD
END:VTIMEZONE
BEGIN:VEVENT
DTSTART;TZID=America/Vancouver:20231010T190000
DTEND;TZID=America/Vancouver:20231010T210000
DTSTAMP:20260420T072126
CREATED:20230909T011119Z
LAST-MODIFIED:20230909T011119Z
UID:13132-1696964400-1696971600@danishchurch.vancouver.bc.ca
SUMMARY:Board Meeting
DESCRIPTION:Board meeting in the Library
URL:https://danishchurch.vancouver.bc.ca/event/board-meeting-2/
CATEGORIES:Planning
ATTACH;FMTTYPE=image/png:https://danishchurch.vancouver.bc.ca/wp-content/uploads/kirkelogo-circle-1-1.png
END:VEVENT
BEGIN:VEVENT
DTSTART;TZID=America/Vancouver:20231008T110000
DTEND;TZID=America/Vancouver:20231008T121500
DTSTAMP:20260420T072126
CREATED:20230906T194655Z
LAST-MODIFIED:20230906T194655Z
UID:12911-1696762800-1696767300@danishchurch.vancouver.bc.ca
SUMMARY:18th Sunday after Trinity
DESCRIPTION:Service in English by Pastor Carsten Mølgaard Hansen. \n\nIsaiah 40:18–25\n 1st Corinthians 1:4–8\n Matthew 22:34–46
URL:https://danishchurch.vancouver.bc.ca/event/18th-sunday-after-trinity/
CATEGORIES:Service
ATTACH;FMTTYPE=image/png:https://danishchurch.vancouver.bc.ca/wp-content/uploads/1-18Trinity.png
END:VEVENT
BEGIN:VEVENT
DTSTART;TZID=America/Vancouver:20231007T140000
DTEND;TZID=America/Vancouver:20231007T150000
DTSTAMP:20260420T072126
CREATED:20230909T011117Z
LAST-MODIFIED:20230909T011117Z
UID:13131-1696687200-1696690800@danishchurch.vancouver.bc.ca
SUMMARY:Thanksgiving in Nanaimo
DESCRIPTION:Thanksgiving Service in Nanaimo
URL:https://danishchurch.vancouver.bc.ca/event/thanksgiving-in-nanaimo/
CATEGORIES:Service
END:VEVENT
BEGIN:VEVENT
DTSTART;TZID=America/Vancouver:20231007T070000
DTEND;TZID=America/Vancouver:20231007T220000
DTSTAMP:20260420T072126
CREATED:20230909T011114Z
LAST-MODIFIED:20230909T011114Z
UID:13129-1696662000-1696716000@danishchurch.vancouver.bc.ca
SUMMARY:Private Function Hall & Kitchen
DESCRIPTION:Kitchen and Hall booked for private function
URL:https://danishchurch.vancouver.bc.ca/event/private-function-hall-kitchen/
CATEGORIES:Private
ATTACH;FMTTYPE=image/jpeg:https://danishchurch.vancouver.bc.ca/wp-content/uploads/Photo-2023-05-13-7-39-59-PM-scaled-vWLGZ7.tmp_.jpg
END:VEVENT
BEGIN:VEVENT
DTSTART;TZID=America/Vancouver:20231005T160000
DTEND;TZID=America/Vancouver:20231005T170000
DTSTAMP:20260420T072126
CREATED:20230908T042035Z
LAST-MODIFIED:20230908T042035Z
UID:13074-1696521600-1696525200@danishchurch.vancouver.bc.ca
SUMMARY:Mini Confirmation
DESCRIPTION:Mini Confirmation Classes for children ages 2-12
URL:https://danishchurch.vancouver.bc.ca/event/mini-confirmation-2/
CATEGORIES:CFC
ATTACH;FMTTYPE=image/jpeg:https://danishchurch.vancouver.bc.ca/wp-content/uploads/Photo-2023-04-02-12-13-53-PM-scaled-bLRlCl.tmp_.jpg
END:VEVENT
BEGIN:VEVENT
DTSTART;TZID=America/Vancouver:20231005T120000
DTEND;TZID=America/Vancouver:20231005T130000
DTSTAMP:20260420T072126
CREATED:20230907T230955Z
LAST-MODIFIED:20230907T230955Z
UID:13050-1696507200-1696510800@danishchurch.vancouver.bc.ca
SUMMARY:Ladies Auxiliary Meeting
DESCRIPTION:
URL:https://danishchurch.vancouver.bc.ca/event/ladies-auxiliary-meeting-2/
END:VEVENT
BEGIN:VEVENT
DTSTART;TZID=America/Vancouver:20231005T093000
DTEND;TZID=America/Vancouver:20231005T110000
DTSTAMP:20260420T072126
CREATED:20230802T210425Z
LAST-MODIFIED:20230802T210425Z
UID:12862-1696498200-1696503600@danishchurch.vancouver.bc.ca
SUMMARY:Bible Study
DESCRIPTION:Bible study in the Library and on Zoom.  If you would like the Zoom link\, please contact Mogens Lemvig Hansen
URL:https://danishchurch.vancouver.bc.ca/event/bible-study-2/
CATEGORIES:Weekly
END:VEVENT
BEGIN:VEVENT
DTSTART;TZID=America/Vancouver:20231004T100000
DTEND;TZID=America/Vancouver:20231004T110000
DTSTAMP:20260420T072126
CREATED:20230908T042036Z
LAST-MODIFIED:20230908T042036Z
UID:13075-1696413600-1696417200@danishchurch.vancouver.bc.ca
SUMMARY:Yoga (sitting)
DESCRIPTION:Sitting yoga for seniors
URL:https://danishchurch.vancouver.bc.ca/event/yoga-sitting-2/
CATEGORIES:CFC
ATTACH;FMTTYPE=image/png:https://danishchurch.vancouver.bc.ca/wp-content/uploads/Yoga-2.png
END:VEVENT
BEGIN:VEVENT
DTSTART;TZID=America/Vancouver:20231004T050000
DTEND;TZID=America/Vancouver:20231004T060000
DTSTAMP:20260420T072126
CREATED:20230908T042037Z
LAST-MODIFIED:20230908T042037Z
UID:13076-1696395600-1696399200@danishchurch.vancouver.bc.ca
SUMMARY:Yoga (hatha)
DESCRIPTION:Hatha yoga for all
URL:https://danishchurch.vancouver.bc.ca/event/yoga-hatha-2/
CATEGORIES:CFC
ATTACH;FMTTYPE=image/jpeg:https://danishchurch.vancouver.bc.ca/wp-content/uploads/Yoga-1.jpg
END:VEVENT
BEGIN:VEVENT
DTSTART;TZID=America/Vancouver:20231001T110000
DTEND;TZID=America/Vancouver:20231001T121500
DTSTAMP:20260420T072126
CREATED:20230906T200307Z
LAST-MODIFIED:20230906T200307Z
UID:12939-1696158000-1696162500@danishchurch.vancouver.bc.ca
SUMMARY:17. søndag efter trinitatis
DESCRIPTION:Gudstjeneste på dansk ved pastor Carsten Mølgaard Hansen. \n\nSalmernes Bog\, 19:1–6\n Paulus’ Brev til Efeserne\, 4:1–6\n Lukas-Evangeliet\, 14:1–11
URL:https://danishchurch.vancouver.bc.ca/event/17-sondag-efter-trinitatis/
CATEGORIES:Service
ATTACH;FMTTYPE=image/png:https://danishchurch.vancouver.bc.ca/wp-content/uploads/1-17Trinity.png
END:VEVENT
BEGIN:VEVENT
DTSTART;TZID=America/Vancouver:20230928T170000
DTEND;TZID=America/Vancouver:20230928T190000
DTSTAMP:20260420T072126
CREATED:20230908T042031Z
LAST-MODIFIED:20230908T042031Z
UID:13073-1695920400-1695927600@danishchurch.vancouver.bc.ca
SUMMARY:Youth Club
DESCRIPTION:Youth Club events for teens
URL:https://danishchurch.vancouver.bc.ca/event/youth-club/
CATEGORIES:CFC
ATTACH;FMTTYPE=image/jpeg:https://danishchurch.vancouver.bc.ca/wp-content/uploads/Youth-Club-1.jpeg
END:VEVENT
BEGIN:VEVENT
DTSTART;TZID=America/Vancouver:20230928T093000
DTEND;TZID=America/Vancouver:20230928T110000
DTSTAMP:20260420T072126
CREATED:20230802T210424Z
LAST-MODIFIED:20230802T210424Z
UID:12861-1695893400-1695898800@danishchurch.vancouver.bc.ca
SUMMARY:Bible Study
DESCRIPTION:Bible study in the Library and on Zoom. If you would like the Zoom link\, please contact Mogens Lemvig Hansen
URL:https://danishchurch.vancouver.bc.ca/event/bible-study/
CATEGORIES:Weekly
ATTACH;FMTTYPE=image/jpeg:https://danishchurch.vancouver.bc.ca/wp-content/uploads/Biblestudy-zoom.jpg
END:VEVENT
BEGIN:VEVENT
DTSTART;TZID=America/Vancouver:20230927T170000
DTEND;TZID=America/Vancouver:20230927T180000
DTSTAMP:20260420T072126
CREATED:20230908T042029Z
LAST-MODIFIED:20230908T042029Z
UID:13072-1695834000-1695837600@danishchurch.vancouver.bc.ca
SUMMARY:Yoga (hatha)
DESCRIPTION:Hatha yoga for all
URL:https://danishchurch.vancouver.bc.ca/event/yoga-hatha/
CATEGORIES:CFC
ATTACH;FMTTYPE=image/jpeg:https://danishchurch.vancouver.bc.ca/wp-content/uploads/Yoga-1.jpg
END:VEVENT
BEGIN:VEVENT
DTSTART;TZID=America/Vancouver:20230927T110000
DTEND;TZID=America/Vancouver:20230927T120000
DTSTAMP:20260420T072126
CREATED:20230908T042023Z
LAST-MODIFIED:20230908T042023Z
UID:13069-1695812400-1695816000@danishchurch.vancouver.bc.ca
SUMMARY:Dania Home Service
DESCRIPTION:English Service at Dania Home
URL:https://danishchurch.vancouver.bc.ca/event/dania-home-service/
CATEGORIES:Service
END:VEVENT
BEGIN:VEVENT
DTSTART;TZID=America/Vancouver:20230927T100000
DTEND;TZID=America/Vancouver:20230927T110000
DTSTAMP:20260420T072126
CREATED:20230908T042026Z
LAST-MODIFIED:20240409T054559Z
UID:13071-1695808800-1695812400@danishchurch.vancouver.bc.ca
SUMMARY:Yoga (sitting)
DESCRIPTION:Sitting yoga for seniors
URL:https://danishchurch.vancouver.bc.ca/event/yoga-sitting/
CATEGORIES:CFC
ATTACH;FMTTYPE=image/png:https://danishchurch.vancouver.bc.ca/wp-content/uploads/Yoga-2.png
END:VEVENT
BEGIN:VEVENT
DTSTART;TZID=America/Vancouver:20230924T110000
DTEND;TZID=America/Vancouver:20230924T121500
DTSTAMP:20260420T072126
CREATED:20230906T194653Z
LAST-MODIFIED:20230906T194653Z
UID:12909-1695553200-1695557700@danishchurch.vancouver.bc.ca
SUMMARY:16th Sunday after Trinity
DESCRIPTION:Service in English by Pastor Carsten Mølgaard Hansen. \n\nJob 19:23–27a or Job 3:11–22\n Ephesians 3:13–21\n Luke 7:11–17
URL:https://danishchurch.vancouver.bc.ca/event/16th-sunday-after-trinity/
CATEGORIES:Service
ATTACH;FMTTYPE=image/png:https://danishchurch.vancouver.bc.ca/wp-content/uploads/1-16Trinity.png
END:VEVENT
BEGIN:VEVENT
DTSTART;TZID=America/Vancouver:20230923T180000
DTEND;TZID=America/Vancouver:20230923T180000
DTSTAMP:20260420T072126
CREATED:20230907T232027Z
LAST-MODIFIED:20230907T232027Z
UID:13052-1695492000-1695492000@danishchurch.vancouver.bc.ca
SUMMARY:Harvest Dinner
DESCRIPTION:Please RSVP to the church office by Sept 19th.
URL:https://danishchurch.vancouver.bc.ca/event/harvest-dinner/
END:VEVENT
BEGIN:VEVENT
DTSTART;TZID=America/Vancouver:20230921T160000
DTEND;TZID=America/Vancouver:20230921T170000
DTSTAMP:20260420T072126
CREATED:20230908T042020Z
LAST-MODIFIED:20230908T042020Z
UID:13067-1695312000-1695315600@danishchurch.vancouver.bc.ca
SUMMARY:Mini Confirmation
DESCRIPTION:Mini Confirmation Classes for children ages 2-12
URL:https://danishchurch.vancouver.bc.ca/event/mini-confirmation/
CATEGORIES:CFC
ATTACH;FMTTYPE=image/jpeg:https://danishchurch.vancouver.bc.ca/wp-content/uploads/Photo-2023-04-02-12-13-53-PM-scaled-bLRlCl.tmp_.jpg
END:VEVENT
BEGIN:VEVENT
DTSTART;TZID=America/Vancouver:20230921T100000
DTEND;TZID=America/Vancouver:20230921T120000
DTSTAMP:20260420T072126
CREATED:20230908T031924Z
LAST-MODIFIED:20230908T031924Z
UID:13060-1695290400-1695297600@danishchurch.vancouver.bc.ca
SUMMARY:Dania Manor Service
DESCRIPTION:Short English service at Dania Manor
URL:https://danishchurch.vancouver.bc.ca/event/dania-manor-service/
CATEGORIES:Monthly
END:VEVENT
BEGIN:VEVENT
DTSTART;TZID=America/Vancouver:20230917T110000
DTEND;TZID=America/Vancouver:20230917T121500
DTSTAMP:20260420T072126
CREATED:20230906T194652Z
LAST-MODIFIED:20230906T194652Z
UID:12908-1694948400-1694952900@danishchurch.vancouver.bc.ca
SUMMARY:15th Sunday after Trinity
DESCRIPTION:Service in English by Pastor Carsten Mølgaard Hansen. \n\nGenesis 8:20–22\, 9:12–16\n Galatians 5:25–6:8\n Matthew 6:24–34
URL:https://danishchurch.vancouver.bc.ca/event/15th-sunday-after-trinity/
CATEGORIES:Service
ATTACH;FMTTYPE=image/png:https://danishchurch.vancouver.bc.ca/wp-content/uploads/1-15Trinity.png
END:VEVENT
BEGIN:VEVENT
DTSTART;TZID=America/Vancouver:20230914T190000
DTEND;TZID=America/Vancouver:20230914T203000
DTSTAMP:20260420T072126
CREATED:20230908T034552Z
LAST-MODIFIED:20230908T034552Z
UID:13062-1694718000-1694723400@danishchurch.vancouver.bc.ca
SUMMARY:New Auxiliary Meeting
DESCRIPTION:Meet in the church hall
URL:https://danishchurch.vancouver.bc.ca/event/new-auxiliary-meeting/
ATTACH;FMTTYPE=image/jpeg:https://danishchurch.vancouver.bc.ca/wp-content/uploads/Photo-2023-05-13-7-04-22-PM-scaled-1.jpg
END:VEVENT
BEGIN:VEVENT
DTSTART;TZID=America/Vancouver:20230913T133000
DTEND;TZID=America/Vancouver:20230913T150000
DTSTAMP:20260420T072126
CREATED:20230908T031921Z
LAST-MODIFIED:20240226T173114Z
UID:13059-1694611800-1694617200@danishchurch.vancouver.bc.ca
SUMMARY:Kom-Sammen Eftermiddag
DESCRIPTION:Get together with the Pastor in Danish
URL:https://danishchurch.vancouver.bc.ca/event/kom-sammen-eftermiddag/
CATEGORIES:Monthly
ATTACH;FMTTYPE=image/jpeg:https://danishchurch.vancouver.bc.ca/wp-content/uploads/baked01-150x150-1.jpg
END:VEVENT
BEGIN:VEVENT
DTSTART;TZID=America/Vancouver:20230912T190000
DTEND;TZID=America/Vancouver:20230912T210000
DTSTAMP:20260420T072126
CREATED:20230908T025328Z
LAST-MODIFIED:20230908T025328Z
UID:13054-1694545200-1694552400@danishchurch.vancouver.bc.ca
SUMMARY:Board Meeting
DESCRIPTION:Church Board Meeting in the Library
URL:https://danishchurch.vancouver.bc.ca/event/board-meeting/
ATTACH;FMTTYPE=image/png:https://danishchurch.vancouver.bc.ca/wp-content/uploads/kirkelogo-circle-300x300-1.png
END:VEVENT
BEGIN:VEVENT
DTSTART;TZID=America/Vancouver:20230910T110000
DTEND;TZID=America/Vancouver:20230910T121500
DTSTAMP:20260420T072126
CREATED:20230906T194651Z
LAST-MODIFIED:20230906T194651Z
UID:12907-1694343600-1694348100@danishchurch.vancouver.bc.ca
SUMMARY:14th Sunday after Trinity
DESCRIPTION:Service in English by Pastor Carsten Mølgaard Hansen. \n\nPsalms 103:1–13\, [14–22]\n Romans 7:15–19 or Galatians 5:[16–21]\, 22–25\n Luke 17:11–19
URL:https://danishchurch.vancouver.bc.ca/event/14th-sunday-after-trinity/
CATEGORIES:Service
ATTACH;FMTTYPE=image/png:https://danishchurch.vancouver.bc.ca/wp-content/uploads/1-14Trinity.png
END:VEVENT
BEGIN:VEVENT
DTSTART;TZID=America/Vancouver:20230907T120000
DTEND;TZID=America/Vancouver:20230907T140000
DTSTAMP:20260420T072126
CREATED:20230802T172507Z
LAST-MODIFIED:20230802T172507Z
UID:12824-1694088000-1694095200@danishchurch.vancouver.bc.ca
SUMMARY:Ladies Auxiliary Mtg.
DESCRIPTION:Meeting in the Church Hall
URL:https://danishchurch.vancouver.bc.ca/event/ladies-auxiliary-mtg/
END:VEVENT
BEGIN:VEVENT
DTSTART;TZID=America/Vancouver:20230907T120000
DTEND;TZID=America/Vancouver:20230907T130000
DTSTAMP:20260420T072126
CREATED:20230907T230717Z
LAST-MODIFIED:20241225T221829Z
UID:13048-1694088000-1694091600@danishchurch.vancouver.bc.ca
SUMMARY:Ladies Auxiliary Meeting
DESCRIPTION:
URL:https://danishchurch.vancouver.bc.ca/event/ladies-auxiliary-meeting/
LOCATION:Church Hall\, 6010 Kincaid Street\, Burnaby\, BC\, V5G 4N3\, Canada
CATEGORIES:Auxiliary
END:VEVENT
END:VCALENDAR