BEGIN:VCALENDAR
VERSION:2.0
PRODID:-//The Danish Lutheran Church of Vancouver, B.C. - ECPv6.15.20//NONSGML v1.0//EN
CALSCALE:GREGORIAN
METHOD:PUBLISH
X-WR-CALNAME:The Danish Lutheran Church of Vancouver, B.C.
X-ORIGINAL-URL:https://danishchurch.vancouver.bc.ca
X-WR-CALDESC:Events for The Danish Lutheran Church of Vancouver, B.C.
REFRESH-INTERVAL;VALUE=DURATION:PT1H
X-Robots-Tag:noindex
X-PUBLISHED-TTL:PT1H
BEGIN:VTIMEZONE
TZID:America/Vancouver
BEGIN:DAYLIGHT
TZOFFSETFROM:-0800
TZOFFSETTO:-0700
TZNAME:PDT
DTSTART:20250309T100000
END:DAYLIGHT
BEGIN:STANDARD
TZOFFSETFROM:-0700
TZOFFSETTO:-0800
TZNAME:PST
DTSTART:20251102T090000
END:STANDARD
BEGIN:DAYLIGHT
TZOFFSETFROM:-0800
TZOFFSETTO:-0700
TZNAME:PDT
DTSTART:20260308T100000
END:DAYLIGHT
BEGIN:STANDARD
TZOFFSETFROM:-0700
TZOFFSETTO:-0800
TZNAME:PST
DTSTART:20261101T090000
END:STANDARD
BEGIN:DAYLIGHT
TZOFFSETFROM:-0800
TZOFFSETTO:-0700
TZNAME:PDT
DTSTART:20270314T100000
END:DAYLIGHT
BEGIN:STANDARD
TZOFFSETFROM:-0700
TZOFFSETTO:-0800
TZNAME:PST
DTSTART:20271107T090000
END:STANDARD
END:VTIMEZONE
BEGIN:VEVENT
DTSTART;TZID=America/Vancouver:20260101T150000
DTEND;TZID=America/Vancouver:20260101T170000
DTSTAMP:20260421T051936
CREATED:20251022T193503Z
LAST-MODIFIED:20251205T004545Z
UID:19417-1767279600-1767286800@danishchurch.vancouver.bc.ca
SUMMARY:New Year's Day Service
DESCRIPTION:This service will be followed by Pastry and Bubbles downstairs to celebrate the New Year
URL:https://danishchurch.vancouver.bc.ca/event/new-years-day-service/
END:VEVENT
BEGIN:VEVENT
DTSTART;TZID=America/Vancouver:20260104T110000
DTEND;TZID=America/Vancouver:20260104T121500
DTSTAMP:20260421T051936
CREATED:20260102T214759Z
LAST-MODIFIED:20260102T215905Z
UID:19495-1767524400-1767528900@danishchurch.vancouver.bc.ca
SUMMARY:Epiphany Sunday
DESCRIPTION:Service in English by Pastor Benedicte Hansen. \n\nJob 28:12–28 or Isaiah 60:1–6\n1st John 2:7–11\nMatthew 2:1–12 or John 8:12–20
URL:https://danishchurch.vancouver.bc.ca/event/epiphany-sunday/
CATEGORIES:Service
ATTACH;FMTTYPE=image/png:https://danishchurch.vancouver.bc.ca/wp-content/uploads/0-Epiphany.png
END:VEVENT
BEGIN:VEVENT
DTSTART;TZID=America/Vancouver:20260106T130000
DTEND;TZID=America/Vancouver:20260106T130000
DTSTAMP:20260421T051936
CREATED:20250513T031223Z
LAST-MODIFIED:20251205T005249Z
UID:19093-1767704400-1767704400@danishchurch.vancouver.bc.ca
SUMMARY:Knit2Gether
DESCRIPTION:
URL:https://danishchurch.vancouver.bc.ca/event/knit2gether-24/
CATEGORIES:Monthly
ATTACH;FMTTYPE=image/jpeg:https://danishchurch.vancouver.bc.ca/wp-content/uploads/Knit2Gether_Viking-hats.jpg
END:VEVENT
BEGIN:VEVENT
DTSTART;TZID=America/Vancouver:20260108T093000
DTEND;TZID=America/Vancouver:20260108T110000
DTSTAMP:20260421T051936
CREATED:20250513T025437Z
LAST-MODIFIED:20251205T005646Z
UID:19043-1767864600-1767870000@danishchurch.vancouver.bc.ca
SUMMARY:Bible Study
DESCRIPTION:
URL:https://danishchurch.vancouver.bc.ca/event/bible-study-76/
CATEGORIES:Weekly
ATTACH;FMTTYPE=image/jpeg:https://danishchurch.vancouver.bc.ca/wp-content/uploads/Bible-Study.jpg
END:VEVENT
BEGIN:VEVENT
DTSTART;TZID=America/Vancouver:20260111T110000
DTEND;TZID=America/Vancouver:20260111T121500
DTSTAMP:20260421T051936
CREATED:20260102T214759Z
LAST-MODIFIED:20260102T215725Z
UID:19496-1768129200-1768133700@danishchurch.vancouver.bc.ca
SUMMARY:1st Sunday after Epiphany
DESCRIPTION:Service in English by Pastor Benedicte Hansen. \n\nPsalms 8\nColossians 1:15–19\nMark 10:13–16
URL:https://danishchurch.vancouver.bc.ca/event/1st-sunday-after-epiphany-2/
CATEGORIES:Service
ATTACH;FMTTYPE=image/png:https://danishchurch.vancouver.bc.ca/wp-content/uploads/0-1Epiphany.png
END:VEVENT
BEGIN:VEVENT
DTSTART;TZID=America/Vancouver:20260111T121500
DTEND;TZID=America/Vancouver:20260111T130000
DTSTAMP:20260421T051936
CREATED:20250513T031354Z
LAST-MODIFIED:20251216T232514Z
UID:19114-1768133700-1768136400@danishchurch.vancouver.bc.ca
SUMMARY:Lunch following service
DESCRIPTION:
URL:https://danishchurch.vancouver.bc.ca/event/lunch-following-service-7/
CATEGORIES:Monthly
ATTACH;FMTTYPE=image/jpeg:https://danishchurch.vancouver.bc.ca/wp-content/uploads/smorre16-150x150-2-1.jpg
END:VEVENT
BEGIN:VEVENT
DTSTART;TZID=America/Vancouver:20260114T133000
DTEND;TZID=America/Vancouver:20260114T153000
DTSTAMP:20260421T051936
CREATED:20250513T030951Z
LAST-MODIFIED:20251011T182112Z
UID:19057-1768397400-1768404600@danishchurch.vancouver.bc.ca
SUMMARY:Kom Sammen
DESCRIPTION:
URL:https://danishchurch.vancouver.bc.ca/event/kom-sammen-12/
LOCATION:Church Hall\, 6010 Kincaid Street\, Burnaby\, BC\, V5G 4N3\, Canada
CATEGORIES:Monthly
ATTACH;FMTTYPE=image/jpeg:https://danishchurch.vancouver.bc.ca/wp-content/uploads/Kom-Sammen-Eftermiddag-2.jpg
END:VEVENT
BEGIN:VEVENT
DTSTART;TZID=America/Vancouver:20260115T093000
DTEND;TZID=America/Vancouver:20260115T110000
DTSTAMP:20260421T051936
CREATED:20250513T025437Z
LAST-MODIFIED:20250513T025437Z
UID:19044-1768469400-1768474800@danishchurch.vancouver.bc.ca
SUMMARY:Bible Study
DESCRIPTION:
URL:https://danishchurch.vancouver.bc.ca/event/bible-study-77/
CATEGORIES:Weekly
END:VEVENT
BEGIN:VEVENT
DTSTART;TZID=America/Vancouver:20260118T110000
DTEND;TZID=America/Vancouver:20260118T121500
DTSTAMP:20260421T051937
CREATED:20260102T214800Z
LAST-MODIFIED:20260102T215521Z
UID:19497-1768734000-1768738500@danishchurch.vancouver.bc.ca
SUMMARY:2nd Sunday after Epiphany
DESCRIPTION:Service in English by Pastor Benedicte Hansen. \n\n1st Kings 8:1\, 12–13\, 22–30 or Jeremiah 17:12–14\n1st John 2:28–3:3\nJohn 4:5–26
URL:https://danishchurch.vancouver.bc.ca/event/2nd-sunday-after-epiphany-2/
CATEGORIES:Service
ATTACH;FMTTYPE=image/png:https://danishchurch.vancouver.bc.ca/wp-content/uploads/0-2Epiphany.png
END:VEVENT
BEGIN:VEVENT
DTSTART;TZID=America/Vancouver:20260122T093000
DTEND;TZID=America/Vancouver:20260122T110000
DTSTAMP:20260421T051937
CREATED:20250513T025438Z
LAST-MODIFIED:20260116T221636Z
UID:19045-1769074200-1769079600@danishchurch.vancouver.bc.ca
SUMMARY:Bible Study
DESCRIPTION:
URL:https://danishchurch.vancouver.bc.ca/event/bible-study-78/
CATEGORIES:Weekly
ATTACH;FMTTYPE=image/jpeg:https://danishchurch.vancouver.bc.ca/wp-content/uploads/Bible-Study-4.jpg
END:VEVENT
BEGIN:VEVENT
DTSTART;TZID=America/Vancouver:20260125T110000
DTEND;TZID=America/Vancouver:20260125T121500
DTSTAMP:20260421T051937
CREATED:20260102T214800Z
LAST-MODIFIED:20260120T015331Z
UID:19498-1769338800-1769343300@danishchurch.vancouver.bc.ca
SUMMARY:Last Sunday after Epiphany
DESCRIPTION:Service in English by Pastor Carsten Mølgaard Hansen. \n\nIsaiah 2:2–5\nColossians 1:25–28\nJohn 12:23–33
URL:https://danishchurch.vancouver.bc.ca/event/last-sunday-after-epiphany-3/
CATEGORIES:Service
ATTACH;FMTTYPE=image/png:https://danishchurch.vancouver.bc.ca/wp-content/uploads/0-LastEpiphany.png
END:VEVENT
BEGIN:VEVENT
DTSTART;TZID=America/Vancouver:20260129T093000
DTEND;TZID=America/Vancouver:20260129T110000
DTSTAMP:20260421T051937
CREATED:20250513T025438Z
LAST-MODIFIED:20260119T232411Z
UID:19046-1769679000-1769684400@danishchurch.vancouver.bc.ca
SUMMARY:Bible Study
DESCRIPTION:
URL:https://danishchurch.vancouver.bc.ca/event/bible-study-79/
CATEGORIES:Weekly
ATTACH;FMTTYPE=image/jpeg:https://danishchurch.vancouver.bc.ca/wp-content/uploads/Bible-Study.jpg
END:VEVENT
END:VCALENDAR